BEGIN:VCALENDAR
VERSION:2.0
PRODID:-//La Costanera - ECPv6.15.17.1//NONSGML v1.0//EN
CALSCALE:GREGORIAN
METHOD:PUBLISH
X-WR-CALNAME:La Costanera
X-ORIGINAL-URL:https://lacostanerarestaurant.com
X-WR-CALDESC:Events for La Costanera
REFRESH-INTERVAL;VALUE=DURATION:PT1H
X-Robots-Tag:noindex
X-PUBLISHED-TTL:PT1H
BEGIN:VTIMEZONE
TZID:America/Los_Angeles
BEGIN:DAYLIGHT
TZOFFSETFROM:-0800
TZOFFSETTO:-0700
TZNAME:PDT
DTSTART:20250309T100000
END:DAYLIGHT
BEGIN:STANDARD
TZOFFSETFROM:-0700
TZOFFSETTO:-0800
TZNAME:PST
DTSTART:20251102T090000
END:STANDARD
BEGIN:DAYLIGHT
TZOFFSETFROM:-0800
TZOFFSETTO:-0700
TZNAME:PDT
DTSTART:20260308T100000
END:DAYLIGHT
BEGIN:STANDARD
TZOFFSETFROM:-0700
TZOFFSETTO:-0800
TZNAME:PST
DTSTART:20261101T090000
END:STANDARD
BEGIN:DAYLIGHT
TZOFFSETFROM:-0800
TZOFFSETTO:-0700
TZNAME:PDT
DTSTART:20270314T100000
END:DAYLIGHT
BEGIN:STANDARD
TZOFFSETFROM:-0700
TZOFFSETTO:-0800
TZNAME:PST
DTSTART:20271107T090000
END:STANDARD
END:VTIMEZONE
BEGIN:VEVENT
DTSTART;TZID=America/Los_Angeles:20260325T180000
DTEND;TZID=America/Los_Angeles:20260325T210000
DTSTAMP:20260424T010356
CREATED:20260304T152154Z
LAST-MODIFIED:20260312T153603Z
UID:1879-1774461600-1774472400@lacostanerarestaurant.com
SUMMARY:Wine Wednesday feat. Groth Vineyards & Winery
DESCRIPTION:Experience the prestige of Oakville\, Napa Valley\, with a curated five-course dinner paired with Groth’s exceptional selections. Known for their world-class Cabernet Sauvignon and Sauvignon Blanc\, this evening celebrates the best of Napa craftsmanship alongside our coastal Peruvian cuisine \nOur Wine Wednesday Dinner takes place every last Wednesday of the month. \nReserve now via OpenTable under Experiences. \nhttps://www.opentable.com/r/la-costanera-montara \nWine Wednesday Menu
URL:https://lacostanerarestaurant.com/event/wine-wednesday-feat-groth-vineyards-winery
LOCATION:La Costanera\, 260 Capistrano Rd\, Half Moon Bay\, CA\, 94019\, United States
CATEGORIES:Wine Wednesday
ATTACH;FMTTYPE=image/jpeg:https://lacostanerarestaurant.com/wp-content/uploads/2026/03/522737316_1519028722699005_1986905112461179222_n-copy.jpg
END:VEVENT
BEGIN:VEVENT
DTSTART;TZID=America/Los_Angeles:20260327T180000
DTEND;TZID=America/Los_Angeles:20260327T210000
DTSTAMP:20260424T010356
CREATED:20260304T152349Z
LAST-MODIFIED:20260305T061708Z
UID:1881-1774634400-1774645200@lacostanerarestaurant.com
SUMMARY:Live Music by Sonya Jason's "Latini"
DESCRIPTION:Brazilian Bossa Novas & Latin Jazz
URL:https://lacostanerarestaurant.com/event/live-music-by-sonya-jasons-latini-2
LOCATION:La Costanera\, 260 Capistrano Rd\, Half Moon Bay\, CA\, 94019\, United States
CATEGORIES:Live Music
ATTACH;FMTTYPE=image/png:https://lacostanerarestaurant.com/wp-content/uploads/2025/09/LC-Website_Live-Music_Sonya-Jasons-Latini-Duo.png
END:VEVENT
BEGIN:VEVENT
DTSTART;TZID=America/Los_Angeles:20260328T120000
DTEND;TZID=America/Los_Angeles:20260328T150000
DTSTAMP:20260424T010356
CREATED:20260304T152513Z
LAST-MODIFIED:20260306T191826Z
UID:1883-1774699200-1774710000@lacostanerarestaurant.com
SUMMARY:Live Music by Eduardo Alvarez
DESCRIPTION:& the Selvasonicos
URL:https://lacostanerarestaurant.com/event/live-music-by-eduardo-alvarez-19
LOCATION:La Costanera\, 260 Capistrano Rd\, Half Moon Bay\, CA\, 94019\, United States
CATEGORIES:Live Music
ATTACH;FMTTYPE=image/png:https://lacostanerarestaurant.com/wp-content/uploads/2025/07/Eduardo-Alvarez.png
END:VEVENT
BEGIN:VEVENT
DTSTART;TZID=America/Los_Angeles:20260329T120000
DTEND;TZID=America/Los_Angeles:20260329T150000
DTSTAMP:20260424T010356
CREATED:20260304T152614Z
LAST-MODIFIED:20260305T061819Z
UID:1885-1774785600-1774796400@lacostanerarestaurant.com
SUMMARY:Live Music by Rolando Morales
DESCRIPTION:
URL:https://lacostanerarestaurant.com/event/live-music-by-rolando-morales-17
LOCATION:La Costanera\, 260 Capistrano Rd\, Half Moon Bay\, CA\, 94019\, United States
CATEGORIES:Live Music
ATTACH;FMTTYPE=image/png:https://lacostanerarestaurant.com/wp-content/uploads/2025/07/LC_Website_Live-Music_Rolando-Morales.png
END:VEVENT
BEGIN:VEVENT
DTSTART;TZID=America/Los_Angeles:20260403T180000
DTEND;TZID=America/Los_Angeles:20260403T210000
DTSTAMP:20260424T010356
CREATED:20260403T160218Z
LAST-MODIFIED:20260403T160218Z
UID:2082-1775239200-1775250000@lacostanerarestaurant.com
SUMMARY:Live Music by Mike McCall
DESCRIPTION:
URL:https://lacostanerarestaurant.com/event/live-music-by-mike-mccall-3
CATEGORIES:Live Music
ATTACH;FMTTYPE=image/png:https://lacostanerarestaurant.com/wp-content/uploads/2026/03/LC_Website_Live-Music_Mike-McCall.png
END:VEVENT
BEGIN:VEVENT
DTSTART;TZID=America/Los_Angeles:20260404T120000
DTEND;TZID=America/Los_Angeles:20260404T150000
DTSTAMP:20260424T010356
CREATED:20260403T160328Z
LAST-MODIFIED:20260403T160328Z
UID:2084-1775304000-1775314800@lacostanerarestaurant.com
SUMMARY:Live Music by Rolando Morales
DESCRIPTION:
URL:https://lacostanerarestaurant.com/event/live-music-by-rolando-morales-18
CATEGORIES:Live Music
ATTACH;FMTTYPE=image/png:https://lacostanerarestaurant.com/wp-content/uploads/2025/07/LC_Website_Live-Music_Rolando-Morales.png
END:VEVENT
BEGIN:VEVENT
DTSTART;TZID=America/Los_Angeles:20260405T120000
DTEND;TZID=America/Los_Angeles:20260405T150000
DTSTAMP:20260424T010356
CREATED:20260403T160509Z
LAST-MODIFIED:20260403T160509Z
UID:2086-1775390400-1775401200@lacostanerarestaurant.com
SUMMARY:Live Music by Pablo Malpica
DESCRIPTION:
URL:https://lacostanerarestaurant.com/event/live-music-by-pablo-malpica-15
CATEGORIES:Live Music
ATTACH;FMTTYPE=image/png:https://lacostanerarestaurant.com/wp-content/uploads/2025/07/Pablo-Malpica.png
END:VEVENT
BEGIN:VEVENT
DTSTART;TZID=America/Los_Angeles:20260405T123000
DTEND;TZID=America/Los_Angeles:20260405T143000
DTSTAMP:20260424T010356
CREATED:20260403T160852Z
LAST-MODIFIED:20260403T160852Z
UID:2088-1775392200-1775399400@lacostanerarestaurant.com
SUMMARY:Annual Easter Egg Hunt
DESCRIPTION:Hop on over for a festive brunch and family-friendly fun! \nEnjoy an Easter egg hunt for kids of all ages\, if a golden egg is found\, there’s an exciting mystery prize!
URL:https://lacostanerarestaurant.com/event/annual-easter-egg-hunt
ATTACH;FMTTYPE=image/png:https://lacostanerarestaurant.com/wp-content/uploads/2026/04/ARG-Email-photos-37.png
END:VEVENT
BEGIN:VEVENT
DTSTART;TZID=America/Los_Angeles:20260410T180000
DTEND;TZID=America/Los_Angeles:20260410T210000
DTSTAMP:20260424T010356
CREATED:20260403T161017Z
LAST-MODIFIED:20260403T161017Z
UID:2091-1775844000-1775854800@lacostanerarestaurant.com
SUMMARY:Live Music by Mike McCall
DESCRIPTION:
URL:https://lacostanerarestaurant.com/event/live-music-by-mike-mccall-4
CATEGORIES:Live Music
ATTACH;FMTTYPE=image/png:https://lacostanerarestaurant.com/wp-content/uploads/2026/03/LC_Website_Live-Music_Mike-McCall.png
END:VEVENT
BEGIN:VEVENT
DTSTART;TZID=America/Los_Angeles:20260411T120000
DTEND;TZID=America/Los_Angeles:20260411T150000
DTSTAMP:20260424T010356
CREATED:20260403T161135Z
LAST-MODIFIED:20260403T161135Z
UID:2093-1775908800-1775919600@lacostanerarestaurant.com
SUMMARY:Live Music by Eduardo Alvarez
DESCRIPTION:
URL:https://lacostanerarestaurant.com/event/live-music-by-eduardo-alvarez-20
CATEGORIES:Live Music
ATTACH;FMTTYPE=image/png:https://lacostanerarestaurant.com/wp-content/uploads/2025/07/Eduardo-Alvarez.png
END:VEVENT
BEGIN:VEVENT
DTSTART;TZID=America/Los_Angeles:20260412T120000
DTEND;TZID=America/Los_Angeles:20260412T150000
DTSTAMP:20260424T010356
CREATED:20260403T161302Z
LAST-MODIFIED:20260403T161302Z
UID:2095-1775995200-1776006000@lacostanerarestaurant.com
SUMMARY:Live Music by Rolando Morales
DESCRIPTION:
URL:https://lacostanerarestaurant.com/event/live-music-by-rolando-morales-19
CATEGORIES:Live Music
ATTACH;FMTTYPE=image/png:https://lacostanerarestaurant.com/wp-content/uploads/2025/07/LC_Website_Live-Music_Rolando-Morales.png
END:VEVENT
BEGIN:VEVENT
DTSTART;TZID=America/Los_Angeles:20260417T180000
DTEND;TZID=America/Los_Angeles:20260417T200000
DTSTAMP:20260424T010356
CREATED:20260403T162254Z
LAST-MODIFIED:20260403T162447Z
UID:2109-1776448800-1776456000@lacostanerarestaurant.com
SUMMARY:First Sip: Penfolds Winery
DESCRIPTION:Get an exclusive head start on our next Wine Wednesday with First Sip at La Costanera. Stop by for this special pre-tasting event to sample the featured selections from Penfolds Winery before the main dinner. \nIt is the perfect way to explore the prestige and heritage of these world class wines in a casual setting while enjoying the coast. Whether you are a longtime fan or new to their iconic labels\, come enjoy a preview of what Penfolds has to offer!
URL:https://lacostanerarestaurant.com/event/first-sip-penfolds-winery
CATEGORIES:First Sip
END:VEVENT
BEGIN:VEVENT
DTSTART;TZID=America/Los_Angeles:20260417T180000
DTEND;TZID=America/Los_Angeles:20260417T210000
DTSTAMP:20260424T010356
CREATED:20260403T161411Z
LAST-MODIFIED:20260403T161411Z
UID:2097-1776448800-1776459600@lacostanerarestaurant.com
SUMMARY:Live Music by Mike McCall
DESCRIPTION:
URL:https://lacostanerarestaurant.com/event/live-music-by-mike-mccall-5
CATEGORIES:Live Music
ATTACH;FMTTYPE=image/png:https://lacostanerarestaurant.com/wp-content/uploads/2026/03/LC_Website_Live-Music_Mike-McCall.png
END:VEVENT
BEGIN:VEVENT
DTSTART;TZID=America/Los_Angeles:20260418T120000
DTEND;TZID=America/Los_Angeles:20260418T150000
DTSTAMP:20260424T010356
CREATED:20260403T161528Z
LAST-MODIFIED:20260403T161528Z
UID:2099-1776513600-1776524400@lacostanerarestaurant.com
SUMMARY:Live Music by Rolando Morales
DESCRIPTION:
URL:https://lacostanerarestaurant.com/event/live-music-by-rolando-morales-20
CATEGORIES:Live Music
ATTACH;FMTTYPE=image/png:https://lacostanerarestaurant.com/wp-content/uploads/2025/07/LC_Website_Live-Music_Rolando-Morales.png
END:VEVENT
BEGIN:VEVENT
DTSTART;TZID=America/Los_Angeles:20260419T120000
DTEND;TZID=America/Los_Angeles:20260419T150000
DTSTAMP:20260424T010356
CREATED:20260403T161649Z
LAST-MODIFIED:20260403T161649Z
UID:2101-1776600000-1776610800@lacostanerarestaurant.com
SUMMARY:Live Music by Danilo & Olga's Latin Duo
DESCRIPTION:
URL:https://lacostanerarestaurant.com/event/live-music-by-danilo-olgas-latin-duo
CATEGORIES:Live Music
ATTACH;FMTTYPE=image/png:https://lacostanerarestaurant.com/wp-content/uploads/2025/07/Danilo-Olgas-Duo_1-1.png
END:VEVENT
BEGIN:VEVENT
DTSTART;TZID=America/Los_Angeles:20260424T180000
DTEND;TZID=America/Los_Angeles:20260424T210000
DTSTAMP:20260424T010356
CREATED:20260403T161813Z
LAST-MODIFIED:20260403T161813Z
UID:2103-1777053600-1777064400@lacostanerarestaurant.com
SUMMARY:Live Music by Mark Kostrzewa
DESCRIPTION:
URL:https://lacostanerarestaurant.com/event/live-music-by-mark-kostrzewa
CATEGORIES:Live Music
END:VEVENT
BEGIN:VEVENT
DTSTART;TZID=America/Los_Angeles:20260425T120000
DTEND;TZID=America/Los_Angeles:20260425T150000
DTSTAMP:20260424T010356
CREATED:20260403T161921Z
LAST-MODIFIED:20260403T161921Z
UID:2105-1777118400-1777129200@lacostanerarestaurant.com
SUMMARY:Live Music by Eduardo Alvarez
DESCRIPTION:
URL:https://lacostanerarestaurant.com/event/live-music-by-eduardo-alvarez-21
CATEGORIES:Live Music
ATTACH;FMTTYPE=image/png:https://lacostanerarestaurant.com/wp-content/uploads/2025/07/Eduardo-Alvarez.png
END:VEVENT
BEGIN:VEVENT
DTSTART;TZID=America/Los_Angeles:20260426T120000
DTEND;TZID=America/Los_Angeles:20260426T150000
DTSTAMP:20260424T010356
CREATED:20260403T162023Z
LAST-MODIFIED:20260403T162023Z
UID:2107-1777204800-1777215600@lacostanerarestaurant.com
SUMMARY:Live Music by Rolando Morales
DESCRIPTION:
URL:https://lacostanerarestaurant.com/event/live-music-by-rolando-morales-21
CATEGORIES:Live Music
ATTACH;FMTTYPE=image/png:https://lacostanerarestaurant.com/wp-content/uploads/2025/07/LC_Website_Live-Music_Rolando-Morales.png
END:VEVENT
BEGIN:VEVENT
DTSTART;TZID=America/Los_Angeles:20260429T180000
DTEND;TZID=America/Los_Angeles:20260429T210000
DTSTAMP:20260424T010356
CREATED:20260403T160016Z
LAST-MODIFIED:20260408T154730Z
UID:2079-1777485600-1777496400@lacostanerarestaurant.com
SUMMARY:Wine Wednesday feat. Penfolds Winery
DESCRIPTION:Experience the prestige of South Australia with a curated five course dinner paired with Penfolds‘ exceptional selections. Known for their world class craftsmanship and iconic heritage\, this evening celebrates the best of Penfolds artistry alongside our coastal Peruvian cuisine. \nJoin us for an exclusive Wine Wednesday as we pair their bold\, refined pours with a special Chef’s Tasting Menu. \nOur Wine Wednesday Dinner takes place every last Wednesday of the month. \nReserve now via OpenTable under Experiences. \nView Menu \nhttps://www.opentable.com/r/la-costanera-montara
URL:https://lacostanerarestaurant.com/event/wine-wednesday-feat-penfolds-winery
CATEGORIES:Wine Wednesday
ATTACH;FMTTYPE=image/jpeg:https://lacostanerarestaurant.com/wp-content/uploads/2026/03/522737316_1519028722699005_1986905112461179222_n-copy.jpg
END:VEVENT
END:VCALENDAR