BEGIN:VCALENDAR
VERSION:2.0
PRODID:-//La Costanera - ECPv6.15.17.1//NONSGML v1.0//EN
CALSCALE:GREGORIAN
METHOD:PUBLISH
X-WR-CALNAME:La Costanera
X-ORIGINAL-URL:https://lacostanerarestaurant.com
X-WR-CALDESC:Events for La Costanera
REFRESH-INTERVAL;VALUE=DURATION:PT1H
X-Robots-Tag:noindex
X-PUBLISHED-TTL:PT1H
BEGIN:VTIMEZONE
TZID:America/Los_Angeles
BEGIN:DAYLIGHT
TZOFFSETFROM:-0800
TZOFFSETTO:-0700
TZNAME:PDT
DTSTART:20250309T100000
END:DAYLIGHT
BEGIN:STANDARD
TZOFFSETFROM:-0700
TZOFFSETTO:-0800
TZNAME:PST
DTSTART:20251102T090000
END:STANDARD
BEGIN:DAYLIGHT
TZOFFSETFROM:-0800
TZOFFSETTO:-0700
TZNAME:PDT
DTSTART:20260308T100000
END:DAYLIGHT
BEGIN:STANDARD
TZOFFSETFROM:-0700
TZOFFSETTO:-0800
TZNAME:PST
DTSTART:20261101T090000
END:STANDARD
BEGIN:DAYLIGHT
TZOFFSETFROM:-0800
TZOFFSETTO:-0700
TZNAME:PDT
DTSTART:20270314T100000
END:DAYLIGHT
BEGIN:STANDARD
TZOFFSETFROM:-0700
TZOFFSETTO:-0800
TZNAME:PST
DTSTART:20271107T090000
END:STANDARD
END:VTIMEZONE
BEGIN:VEVENT
DTSTART;TZID=America/Los_Angeles:20260320T160000
DTEND;TZID=America/Los_Angeles:20260320T180000
DTSTAMP:20260424T024759
CREATED:20260304T151721Z
LAST-MODIFIED:20260306T191722Z
UID:1872-1774022400-1774029600@lacostanerarestaurant.com
SUMMARY:Local's Happy Hour feat. Gran Centenario Tequila
DESCRIPTION:Join us for our Locals’ Happy Hour on March 20th! We are inviting our neighbors from Pacifica\, El Granada\, Half Moon Bay\, and the surrounding coast to stop by from 3:00 PM – 6:00 PM. \nIn addition to our standard happy hour specials\, we will be distributing our Coastal Local Cards\, giving area residents an exclusive 10% off. It’s the perfect time to grab a drink\, enjoy the view\, and secure your local discount!
URL:https://lacostanerarestaurant.com/event/locals-happy-hour-feat-gran-centenario-tequila
CATEGORIES:Local's Happy Hour
ATTACH;FMTTYPE=image/png:https://lacostanerarestaurant.com/wp-content/uploads/2026/03/2026-02-03-LC-HAPPY-HOUR-PROMOTIONS-2.png
END:VEVENT
BEGIN:VEVENT
DTSTART;TZID=America/Los_Angeles:20260315T120000
DTEND;TZID=America/Los_Angeles:20260315T150000
DTSTAMP:20260424T024759
CREATED:20260304T151344Z
LAST-MODIFIED:20260305T061520Z
UID:1868-1773576000-1773586800@lacostanerarestaurant.com
SUMMARY:Live Music by Pablo Malpica
DESCRIPTION:“One Man Latin Band”
URL:https://lacostanerarestaurant.com/event/live-music-by-pablo-malpica-14
CATEGORIES:Live Music
ATTACH;FMTTYPE=image/png:https://lacostanerarestaurant.com/wp-content/uploads/2025/07/Pablo-Malpica.png
END:VEVENT
BEGIN:VEVENT
DTSTART;TZID=America/Los_Angeles:20260314T180000
DTEND;TZID=America/Los_Angeles:20260314T200000
DTSTAMP:20260424T024759
CREATED:20260304T151233Z
LAST-MODIFIED:20260306T191952Z
UID:1866-1773511200-1773518400@lacostanerarestaurant.com
SUMMARY:First Sip: Groth Vineyards & Winery Oakville
DESCRIPTION:Get an exclusive head start on our next Wine Wednesday with “First Sip” at La Costanera. Stop by for this special pre-tasting event to sample the featured Oakville\, Napa Valley selections from Groth Vineyards & Winery before the main dinner. It’s the perfect way to explore these world-class wines in a casual setting while enjoying the coast.
URL:https://lacostanerarestaurant.com/event/first-sip-groth-vineyards-winery-oakville
CATEGORIES:First Sip
ATTACH;FMTTYPE=image/jpeg:https://lacostanerarestaurant.com/wp-content/uploads/2026/03/488687674_1069264681887011_1167674393974885025_n.jpg
END:VEVENT
BEGIN:VEVENT
DTSTART;TZID=America/Los_Angeles:20260314T120000
DTEND;TZID=America/Los_Angeles:20260314T150000
DTSTAMP:20260424T024759
CREATED:20260304T151006Z
LAST-MODIFIED:20260306T191106Z
UID:1864-1773489600-1773500400@lacostanerarestaurant.com
SUMMARY:Live Music by Eduardo Alvarez
DESCRIPTION:& the Selvasonicos
URL:https://lacostanerarestaurant.com/event/live-music-by-eduardo-alvarez-18
CATEGORIES:Live Music
ATTACH;FMTTYPE=image/png:https://lacostanerarestaurant.com/wp-content/uploads/2025/07/Eduardo-Alvarez.png
END:VEVENT
BEGIN:VEVENT
DTSTART;TZID=America/Los_Angeles:20260313T180000
DTEND;TZID=America/Los_Angeles:20260313T210000
DTSTAMP:20260424T024759
CREATED:20260304T150838Z
LAST-MODIFIED:20260305T061210Z
UID:1862-1773424800-1773435600@lacostanerarestaurant.com
SUMMARY:Live Music by Sonya Jason's "Latini"
DESCRIPTION:Brazilian Bossa Novas & Latin Jazz
URL:https://lacostanerarestaurant.com/event/live-music-by-sonya-jasons-latini
CATEGORIES:Live Music
ATTACH;FMTTYPE=image/png:https://lacostanerarestaurant.com/wp-content/uploads/2025/09/LC-Website_Live-Music_Sonya-Jasons-Latini-Duo.png
END:VEVENT
BEGIN:VEVENT
DTSTART;TZID=America/Los_Angeles:20260308T120000
DTEND;TZID=America/Los_Angeles:20260308T150000
DTSTAMP:20260424T024759
CREATED:20260304T150630Z
LAST-MODIFIED:20260305T061106Z
UID:1860-1772971200-1772982000@lacostanerarestaurant.com
SUMMARY:Live Music by Atepu Krep
DESCRIPTION:“Peruvian Latin Fusion”
URL:https://lacostanerarestaurant.com/event/live-music-by-atepu-krep-7
CATEGORIES:Live Music
ATTACH;FMTTYPE=image/png:https://lacostanerarestaurant.com/wp-content/uploads/2025/07/LC-Website_Live-Music_Atepu-Krep.png
END:VEVENT
BEGIN:VEVENT
DTSTART;TZID=America/Los_Angeles:20260307T120000
DTEND;TZID=America/Los_Angeles:20260307T150000
DTSTAMP:20260424T024759
CREATED:20260304T150516Z
LAST-MODIFIED:20260305T061009Z
UID:1858-1772884800-1772895600@lacostanerarestaurant.com
SUMMARY:Live Music by Rolando Morales
DESCRIPTION:
URL:https://lacostanerarestaurant.com/event/live-music-by-rolando-morales-15
CATEGORIES:Live Music
ATTACH;FMTTYPE=image/png:https://lacostanerarestaurant.com/wp-content/uploads/2025/07/LC_Website_Live-Music_Rolando-Morales.png
END:VEVENT
BEGIN:VEVENT
DTSTART;TZID=America/Los_Angeles:20260306T180000
DTEND;TZID=America/Los_Angeles:20260306T210000
DTSTAMP:20260424T024759
CREATED:20260304T150310Z
LAST-MODIFIED:20260306T191025Z
UID:1855-1772820000-1772830800@lacostanerarestaurant.com
SUMMARY:Live Music By Mike McCall
DESCRIPTION:and his Spanish guitar
URL:https://lacostanerarestaurant.com/event/live-music-by-mike-mccall
CATEGORIES:Live Music
ATTACH;FMTTYPE=image/png:https://lacostanerarestaurant.com/wp-content/uploads/2026/03/LC_Website_Live-Music_Mike-McCall.png
END:VEVENT
BEGIN:VEVENT
DTSTART;TZID=America/Los_Angeles:20260301T120000
DTEND;TZID=America/Los_Angeles:20260301T150000
DTSTAMP:20260424T024759
CREATED:20260304T145913Z
LAST-MODIFIED:20260305T060903Z
UID:1853-1772366400-1772377200@lacostanerarestaurant.com
SUMMARY:Live Music by Rolando Morales
DESCRIPTION:
URL:https://lacostanerarestaurant.com/event/live-music-by-rolando-morales-14
LOCATION:La Costanera\, 260 Capistrano Rd\, Half Moon Bay\, CA\, 94019\, United States
CATEGORIES:Live Music
ATTACH;FMTTYPE=image/png:https://lacostanerarestaurant.com/wp-content/uploads/2025/07/LC_Website_Live-Music_Rolando-Morales.png
END:VEVENT
BEGIN:VEVENT
DTSTART;TZID=America/Los_Angeles:20260228T120000
DTEND;TZID=America/Los_Angeles:20260228T150000
DTSTAMP:20260424T024759
CREATED:20260209T044426Z
LAST-MODIFIED:20260209T044426Z
UID:1849-1772280000-1772290800@lacostanerarestaurant.com
SUMMARY:Live Music by Pablo Malpica
DESCRIPTION:
URL:https://lacostanerarestaurant.com/event/live-music-by-pablo-malpica-13
LOCATION:La Costanera\, 260 Capistrano Rd\, Half Moon Bay\, CA\, 94019\, United States
CATEGORIES:Live Music
ATTACH;FMTTYPE=image/png:https://lacostanerarestaurant.com/wp-content/uploads/2025/07/Pablo-Malpica.png
END:VEVENT
BEGIN:VEVENT
DTSTART;TZID=America/Los_Angeles:20260227T180000
DTEND;TZID=America/Los_Angeles:20260227T210000
DTSTAMP:20260424T024759
CREATED:20260209T044052Z
LAST-MODIFIED:20260209T044052Z
UID:1844-1772215200-1772226000@lacostanerarestaurant.com
SUMMARY:Live Music by Sonya Jason’s Latini Duo
DESCRIPTION:
URL:https://lacostanerarestaurant.com/event/live-music-by-sonya-jasons-latini-duo-14
LOCATION:La Costanera\, 260 Capistrano Rd\, Half Moon Bay\, CA\, 94019\, United States
CATEGORIES:Live Music
ATTACH;FMTTYPE=image/png:https://lacostanerarestaurant.com/wp-content/uploads/2025/07/Sonya-Jasons-Latini-Duo.png
END:VEVENT
BEGIN:VEVENT
DTSTART;TZID=America/Los_Angeles:20260225T180000
DTEND;TZID=America/Los_Angeles:20260225T210000
DTSTAMP:20260424T024759
CREATED:20260209T043923Z
LAST-MODIFIED:20260209T043923Z
UID:1842-1772042400-1772053200@lacostanerarestaurant.com
SUMMARY:Wine Wednesday feat. Gundlach Bundschu Winery
DESCRIPTION:
URL:https://lacostanerarestaurant.com/event/wine-wednesday-feat-gundlach-bundschu-winery
LOCATION:La Costanera\, 260 Capistrano Rd\, Half Moon Bay\, CA\, 94019\, United States
CATEGORIES:Wine Wednesday
ATTACH;FMTTYPE=image/jpeg:https://lacostanerarestaurant.com/wp-content/uploads/2026/02/Gundlach-Bundschu-Wine.jpg
END:VEVENT
BEGIN:VEVENT
DTSTART;TZID=America/Los_Angeles:20260222T120000
DTEND;TZID=America/Los_Angeles:20260222T150000
DTSTAMP:20260424T024759
CREATED:20260209T044741Z
LAST-MODIFIED:20260209T044741Z
UID:1851-1771761600-1771772400@lacostanerarestaurant.com
SUMMARY:Live Music by Danilo & Olga’s Duo
DESCRIPTION:
URL:https://lacostanerarestaurant.com/event/live-music-by-danilo-olgas-duo-12
LOCATION:La Costanera\, 260 Capistrano Rd\, Half Moon Bay\, CA\, 94019\, United States
CATEGORIES:Live Music
ATTACH;FMTTYPE=image/png:https://lacostanerarestaurant.com/wp-content/uploads/2025/07/Danilo-Olgas-Duo_1.png
END:VEVENT
BEGIN:VEVENT
DTSTART;TZID=America/Los_Angeles:20260222T120000
DTEND;TZID=America/Los_Angeles:20260222T150000
DTSTAMP:20260424T024759
CREATED:20260209T043719Z
LAST-MODIFIED:20260209T043719Z
UID:1840-1771761600-1771772400@lacostanerarestaurant.com
SUMMARY:National Margarita Day Gran Centenario Complimentary Tequila Tasting
DESCRIPTION:
URL:https://lacostanerarestaurant.com/event/national-margarita-day-gran-centenario-complimentary-tequila-tasting
LOCATION:La Costanera\, 260 Capistrano Rd\, Half Moon Bay\, CA\, 94019\, United States
CATEGORIES:Complimentary Tasting
END:VEVENT
BEGIN:VEVENT
DTSTART;TZID=America/Los_Angeles:20260221T120000
DTEND;TZID=America/Los_Angeles:20260221T150000
DTSTAMP:20260424T024759
CREATED:20260209T043418Z
LAST-MODIFIED:20260209T043418Z
UID:1838-1771675200-1771686000@lacostanerarestaurant.com
SUMMARY:Live Music by Rolando Morales
DESCRIPTION:
URL:https://lacostanerarestaurant.com/event/live-music-by-rolando-morales-13
LOCATION:La Costanera\, 260 Capistrano Rd\, Half Moon Bay\, CA\, 94019\, United States
CATEGORIES:Live Music
ATTACH;FMTTYPE=image/png:https://lacostanerarestaurant.com/wp-content/uploads/2025/07/LC_Website_Live-Music_Rolando-Morales.png
END:VEVENT
BEGIN:VEVENT
DTSTART;TZID=America/Los_Angeles:20260220T180000
DTEND;TZID=America/Los_Angeles:20260220T210000
DTSTAMP:20260424T024759
CREATED:20260209T043230Z
LAST-MODIFIED:20260209T043230Z
UID:1836-1771610400-1771621200@lacostanerarestaurant.com
SUMMARY:Live Music by Danilo & Olga’s Duo
DESCRIPTION:
URL:https://lacostanerarestaurant.com/event/live-music-by-danilo-olgas-duo-11
LOCATION:La Costanera\, 260 Capistrano Rd\, Half Moon Bay\, CA\, 94019\, United States
CATEGORIES:Live Music
ATTACH;FMTTYPE=image/png:https://lacostanerarestaurant.com/wp-content/uploads/2025/07/Danilo-Olgas-Duo_1.png
END:VEVENT
BEGIN:VEVENT
DTSTART;TZID=America/Los_Angeles:20260217T180000
DTEND;TZID=America/Los_Angeles:20260217T210000
DTSTAMP:20260424T024759
CREATED:20260209T043054Z
LAST-MODIFIED:20260209T043106Z
UID:1834-1771351200-1771362000@lacostanerarestaurant.com
SUMMARY:Closed for a Private Event
DESCRIPTION:
URL:https://lacostanerarestaurant.com/event/closed-for-a-private-event
LOCATION:La Costanera\, 260 Capistrano Rd\, Half Moon Bay\, CA\, 94019\, United States
END:VEVENT
BEGIN:VEVENT
DTSTART;TZID=America/Los_Angeles:20260215T120000
DTEND;TZID=America/Los_Angeles:20260215T150000
DTSTAMP:20260424T024759
CREATED:20260209T042845Z
LAST-MODIFIED:20260209T042845Z
UID:1832-1771156800-1771167600@lacostanerarestaurant.com
SUMMARY:Live Music by Pablo Malpica
DESCRIPTION:
URL:https://lacostanerarestaurant.com/event/live-music-by-pablo-malpica-12
CATEGORIES:Live Music
ATTACH;FMTTYPE=image/png:https://lacostanerarestaurant.com/wp-content/uploads/2025/07/Pablo-Malpica.png
END:VEVENT
BEGIN:VEVENT
DTSTART;TZID=America/Los_Angeles:20260214T180000
DTEND;TZID=America/Los_Angeles:20260214T210000
DTSTAMP:20260424T024759
CREATED:20260209T042717Z
LAST-MODIFIED:20260209T042717Z
UID:1830-1771092000-1771102800@lacostanerarestaurant.com
SUMMARY:Live Music by Sonya Jason’s Latini Duo
DESCRIPTION:
URL:https://lacostanerarestaurant.com/event/live-music-by-sonya-jasons-latini-duo-13
LOCATION:La Costanera\, 260 Capistrano Rd\, Half Moon Bay\, CA\, 94019\, United States
CATEGORIES:Live Music
ATTACH;FMTTYPE=image/png:https://lacostanerarestaurant.com/wp-content/uploads/2025/07/Sonya-Jasons-Latini-Duo.png
END:VEVENT
BEGIN:VEVENT
DTSTART;TZID=America/Los_Angeles:20260214T120000
DTEND;TZID=America/Los_Angeles:20260214T150000
DTSTAMP:20260424T024759
CREATED:20260209T042530Z
LAST-MODIFIED:20260209T042530Z
UID:1828-1771070400-1771081200@lacostanerarestaurant.com
SUMMARY:Live Music by Eduardo Alvarez
DESCRIPTION:
URL:https://lacostanerarestaurant.com/event/live-music-by-eduardo-alvarez-17
LOCATION:La Costanera\, 260 Capistrano Rd\, Half Moon Bay\, CA\, 94019\, United States
CATEGORIES:Live Music
ATTACH;FMTTYPE=image/png:https://lacostanerarestaurant.com/wp-content/uploads/2025/07/Eduardo-Alvarez.png
END:VEVENT
BEGIN:VEVENT
DTSTART;TZID=America/Los_Angeles:20260213T180000
DTEND;TZID=America/Los_Angeles:20260213T210000
DTSTAMP:20260424T024759
CREATED:20260209T042053Z
LAST-MODIFIED:20260209T042053Z
UID:1823-1771005600-1771016400@lacostanerarestaurant.com
SUMMARY:Live Music by Sonya Jason’s Latini Duo
DESCRIPTION:
URL:https://lacostanerarestaurant.com/event/live-music-by-sonya-jasons-latini-duo-12
LOCATION:La Costanera\, 260 Capistrano Rd\, Half Moon Bay\, CA\, 94019\, United States
CATEGORIES:Live Music
ATTACH;FMTTYPE=image/png:https://lacostanerarestaurant.com/wp-content/uploads/2025/07/Sonya-Jasons-Latini-Duo.png
END:VEVENT
BEGIN:VEVENT
DTSTART;TZID=America/Los_Angeles:20260213T180000
DTEND;TZID=America/Los_Angeles:20260213T200000
DTSTAMP:20260424T024759
CREATED:20260209T042407Z
LAST-MODIFIED:20260209T042407Z
UID:1825-1771005600-1771012800@lacostanerarestaurant.com
SUMMARY:First Sip: Gundlach Bundschu Winery Wine Wednesday Pre-Taste
DESCRIPTION:
URL:https://lacostanerarestaurant.com/event/first-sip-gundlach-bundschu-winery-wine-wednesday-pre-taste
LOCATION:La Costanera\, 260 Capistrano Rd\, Half Moon Bay\, CA\, 94019\, United States
CATEGORIES:First Sip
ATTACH;FMTTYPE=image/jpeg:https://lacostanerarestaurant.com/wp-content/uploads/2026/02/Gundlach-Bundschu-Wine.jpg
END:VEVENT
BEGIN:VEVENT
DTSTART;TZID=America/Los_Angeles:20260208T120000
DTEND;TZID=America/Los_Angeles:20260208T150000
DTSTAMP:20260424T024759
CREATED:20260209T041928Z
LAST-MODIFIED:20260209T041928Z
UID:1821-1770552000-1770562800@lacostanerarestaurant.com
SUMMARY:Live Music by Pablo Malpica
DESCRIPTION:
URL:https://lacostanerarestaurant.com/event/live-music-by-pablo-malpica-11
LOCATION:La Costanera\, 260 Capistrano Rd\, Half Moon Bay\, CA\, 94019\, United States
CATEGORIES:Live Music
ATTACH;FMTTYPE=image/png:https://lacostanerarestaurant.com/wp-content/uploads/2025/07/Pablo-Malpica.png
END:VEVENT
BEGIN:VEVENT
DTSTART;TZID=America/Los_Angeles:20260207T120000
DTEND;TZID=America/Los_Angeles:20260207T150000
DTSTAMP:20260424T024759
CREATED:20260209T041651Z
LAST-MODIFIED:20260209T041818Z
UID:1816-1770465600-1770476400@lacostanerarestaurant.com
SUMMARY:National Pisco Sour Day Bodega San Martin Complimentary Pisco Tasting
DESCRIPTION:
URL:https://lacostanerarestaurant.com/event/national-pisco-sour-day-bodega-san-martin-complimentary-pisco-tasting
LOCATION:La Costanera\, 260 Capistrano Rd\, Half Moon Bay\, CA\, 94019\, United States
CATEGORIES:Complimentary Tasting
ATTACH;FMTTYPE=image/jpeg:https://lacostanerarestaurant.com/wp-content/uploads/2025/04/489877269_1434227627845782_1247070158449603615_n.jpg
END:VEVENT
BEGIN:VEVENT
DTSTART;TZID=America/Los_Angeles:20260207T120000
DTEND;TZID=America/Los_Angeles:20260207T150000
DTSTAMP:20260424T024759
CREATED:20260209T041437Z
LAST-MODIFIED:20260209T041437Z
UID:1813-1770465600-1770476400@lacostanerarestaurant.com
SUMMARY:Live Music by Eduardo Alvarez
DESCRIPTION:
URL:https://lacostanerarestaurant.com/event/live-music-by-eduardo-alvarez-16
LOCATION:La Costanera\, 260 Capistrano Rd\, Half Moon Bay\, CA\, 94019\, United States
CATEGORIES:Live Music
ATTACH;FMTTYPE=image/png:https://lacostanerarestaurant.com/wp-content/uploads/2025/07/Eduardo-Alvarez.png
END:VEVENT
BEGIN:VEVENT
DTSTART;TZID=America/Los_Angeles:20260206T180000
DTEND;TZID=America/Los_Angeles:20260206T210000
DTSTAMP:20260424T024759
CREATED:20260209T041326Z
LAST-MODIFIED:20260209T041326Z
UID:1811-1770400800-1770411600@lacostanerarestaurant.com
SUMMARY:Live Music by Rolando Morales
DESCRIPTION:
URL:https://lacostanerarestaurant.com/event/live-music-by-rolando-morales-12
LOCATION:La Costanera\, 260 Capistrano Rd\, Half Moon Bay\, CA\, 94019\, United States
CATEGORIES:Live Music
ATTACH;FMTTYPE=image/png:https://lacostanerarestaurant.com/wp-content/uploads/2025/07/LC_Website_Live-Music_Rolando-Morales.png
END:VEVENT
BEGIN:VEVENT
DTSTART;TZID=America/Los_Angeles:20260201T120000
DTEND;TZID=America/Los_Angeles:20260201T150000
DTSTAMP:20260424T024759
CREATED:20260209T041201Z
LAST-MODIFIED:20260209T041201Z
UID:1809-1769947200-1769958000@lacostanerarestaurant.com
SUMMARY:Live Music by Pablo Malpica
DESCRIPTION:
URL:https://lacostanerarestaurant.com/event/live-music-by-pablo-malpica-10
LOCATION:La Costanera\, 260 Capistrano Rd\, Half Moon Bay\, CA\, 94019\, United States
CATEGORIES:Live Music
ATTACH;FMTTYPE=image/png:https://lacostanerarestaurant.com/wp-content/uploads/2025/07/Pablo-Malpica.png
END:VEVENT
BEGIN:VEVENT
DTSTART;TZID=America/Los_Angeles:20260131T120000
DTEND;TZID=America/Los_Angeles:20260131T150000
DTSTAMP:20260424T024759
CREATED:20260108T024248Z
LAST-MODIFIED:20260108T024248Z
UID:1762-1769860800-1769871600@lacostanerarestaurant.com
SUMMARY:Live Music by Rolando Morales
DESCRIPTION:
URL:https://lacostanerarestaurant.com/event/live-music-by-rolando-morales-11
LOCATION:La Costanera\, 260 Capistrano Rd\, Half Moon Bay\, CA\, 94019\, United States
CATEGORIES:Live Music
ATTACH;FMTTYPE=image/png:https://lacostanerarestaurant.com/wp-content/uploads/2025/07/LC_Website_Live-Music_Rolando-Morales.png
END:VEVENT
BEGIN:VEVENT
DTSTART;TZID=America/Los_Angeles:20260130T180000
DTEND;TZID=America/Los_Angeles:20260130T210000
DTSTAMP:20260424T024759
CREATED:20260108T024133Z
LAST-MODIFIED:20260108T024133Z
UID:1760-1769796000-1769806800@lacostanerarestaurant.com
SUMMARY:Live Music by Sonya Jason’s Latini Duo
DESCRIPTION:
URL:https://lacostanerarestaurant.com/event/live-music-by-sonya-jasons-latini-duo-11
LOCATION:La Costanera\, 260 Capistrano Rd\, Half Moon Bay\, CA\, 94019\, United States
CATEGORIES:Live Music
ATTACH;FMTTYPE=image/png:https://lacostanerarestaurant.com/wp-content/uploads/2025/07/Sonya-Jasons-Latini-Duo.png
END:VEVENT
BEGIN:VEVENT
DTSTART;TZID=America/Los_Angeles:20260128T180000
DTEND;TZID=America/Los_Angeles:20260128T210000
DTSTAMP:20260424T024759
CREATED:20260108T025109Z
LAST-MODIFIED:20260108T025323Z
UID:1764-1769623200-1769634000@lacostanerarestaurant.com
SUMMARY:Wine Wednesday feat. Ridge Vineyard
DESCRIPTION:  \nJoin us for the first Winemaker’s Dinner of the year\, featuring Ridge Vineyards. This is your opportunity to dine and sip with one of California’s most respected wineries\, renowned for producing iconic\, age-worthy\, terroir-driven wines. Enjoy an exclusive multi-course pairing menu crafted by our chef for this special evening. \nOur Wine Wednesday Dinner takes place every last Wednesday of the month. \nReserve now via OpenTable under Experiences. https://www.opentable.com/r/la-costanera-montara \n  \n 
URL:https://lacostanerarestaurant.com/event/wine-wednesday-feat-ridge-vineyard
LOCATION:La Costanera\, 260 Capistrano Rd\, Half Moon Bay\, CA\, 94019\, United States
CATEGORIES:Wine Wednesday
ATTACH;FMTTYPE=image/jpeg:https://lacostanerarestaurant.com/wp-content/uploads/2026/01/images.jpeg
END:VEVENT
END:VCALENDAR