BEGIN:VCALENDAR
VERSION:2.0
PRODID:-//La Costanera - ECPv6.15.17.1//NONSGML v1.0//EN
CALSCALE:GREGORIAN
METHOD:PUBLISH
X-ORIGINAL-URL:https://lacostanerarestaurant.com
X-WR-CALDESC:Events for La Costanera
REFRESH-INTERVAL;VALUE=DURATION:PT1H
X-Robots-Tag:noindex
X-PUBLISHED-TTL:PT1H
BEGIN:VTIMEZONE
TZID:America/Los_Angeles
BEGIN:DAYLIGHT
TZOFFSETFROM:-0800
TZOFFSETTO:-0700
TZNAME:PDT
DTSTART:20250309T100000
END:DAYLIGHT
BEGIN:STANDARD
TZOFFSETFROM:-0700
TZOFFSETTO:-0800
TZNAME:PST
DTSTART:20251102T090000
END:STANDARD
BEGIN:DAYLIGHT
TZOFFSETFROM:-0800
TZOFFSETTO:-0700
TZNAME:PDT
DTSTART:20260308T100000
END:DAYLIGHT
BEGIN:STANDARD
TZOFFSETFROM:-0700
TZOFFSETTO:-0800
TZNAME:PST
DTSTART:20261101T090000
END:STANDARD
BEGIN:DAYLIGHT
TZOFFSETFROM:-0800
TZOFFSETTO:-0700
TZNAME:PDT
DTSTART:20270314T100000
END:DAYLIGHT
BEGIN:STANDARD
TZOFFSETFROM:-0700
TZOFFSETTO:-0800
TZNAME:PST
DTSTART:20271107T090000
END:STANDARD
END:VTIMEZONE
BEGIN:VEVENT
DTSTART;TZID=America/Los_Angeles:20260424T180000
DTEND;TZID=America/Los_Angeles:20260424T210000
DTSTAMP:20260423T230854
CREATED:20260403T161813Z
LAST-MODIFIED:20260403T161813Z
UID:2103-1777053600-1777064400@lacostanerarestaurant.com
SUMMARY:Live Music by Mark Kostrzewa
DESCRIPTION:
URL:https://lacostanerarestaurant.com/event/live-music-by-mark-kostrzewa
CATEGORIES:Live Music
END:VEVENT
BEGIN:VEVENT
DTSTART;TZID=America/Los_Angeles:20260425T120000
DTEND;TZID=America/Los_Angeles:20260425T150000
DTSTAMP:20260423T230854
CREATED:20260403T161921Z
LAST-MODIFIED:20260403T161921Z
UID:2105-1777118400-1777129200@lacostanerarestaurant.com
SUMMARY:Live Music by Eduardo Alvarez
DESCRIPTION:
URL:https://lacostanerarestaurant.com/event/live-music-by-eduardo-alvarez-21
CATEGORIES:Live Music
ATTACH;FMTTYPE=image/png:https://lacostanerarestaurant.com/wp-content/uploads/2025/07/Eduardo-Alvarez.png
END:VEVENT
BEGIN:VEVENT
DTSTART;TZID=America/Los_Angeles:20260426T120000
DTEND;TZID=America/Los_Angeles:20260426T150000
DTSTAMP:20260423T230854
CREATED:20260403T162023Z
LAST-MODIFIED:20260403T162023Z
UID:2107-1777204800-1777215600@lacostanerarestaurant.com
SUMMARY:Live Music by Rolando Morales
DESCRIPTION:
URL:https://lacostanerarestaurant.com/event/live-music-by-rolando-morales-21
CATEGORIES:Live Music
ATTACH;FMTTYPE=image/png:https://lacostanerarestaurant.com/wp-content/uploads/2025/07/LC_Website_Live-Music_Rolando-Morales.png
END:VEVENT
BEGIN:VEVENT
DTSTART;TZID=America/Los_Angeles:20260429T180000
DTEND;TZID=America/Los_Angeles:20260429T210000
DTSTAMP:20260423T230854
CREATED:20260403T160016Z
LAST-MODIFIED:20260408T154730Z
UID:2079-1777485600-1777496400@lacostanerarestaurant.com
SUMMARY:Wine Wednesday feat. Penfolds Winery
DESCRIPTION:Experience the prestige of South Australia with a curated five course dinner paired with Penfolds‘ exceptional selections. Known for their world class craftsmanship and iconic heritage\, this evening celebrates the best of Penfolds artistry alongside our coastal Peruvian cuisine. \nJoin us for an exclusive Wine Wednesday as we pair their bold\, refined pours with a special Chef’s Tasting Menu. \nOur Wine Wednesday Dinner takes place every last Wednesday of the month. \nReserve now via OpenTable under Experiences. \nView Menu \nhttps://www.opentable.com/r/la-costanera-montara
URL:https://lacostanerarestaurant.com/event/wine-wednesday-feat-penfolds-winery
CATEGORIES:Wine Wednesday
ATTACH;FMTTYPE=image/jpeg:https://lacostanerarestaurant.com/wp-content/uploads/2026/03/522737316_1519028722699005_1986905112461179222_n-copy.jpg
END:VEVENT
END:VCALENDAR