BEGIN:VCALENDAR
VERSION:2.0
PRODID:-//La Costanera - ECPv6.15.17.1//NONSGML v1.0//EN
CALSCALE:GREGORIAN
METHOD:PUBLISH
X-WR-CALNAME:La Costanera
X-ORIGINAL-URL:https://lacostanerarestaurant.com
X-WR-CALDESC:Events for La Costanera
REFRESH-INTERVAL;VALUE=DURATION:PT1H
X-Robots-Tag:noindex
X-PUBLISHED-TTL:PT1H
BEGIN:VTIMEZONE
TZID:America/Los_Angeles
BEGIN:DAYLIGHT
TZOFFSETFROM:-0800
TZOFFSETTO:-0700
TZNAME:PDT
DTSTART:20240310T100000
END:DAYLIGHT
BEGIN:STANDARD
TZOFFSETFROM:-0700
TZOFFSETTO:-0800
TZNAME:PST
DTSTART:20241103T090000
END:STANDARD
BEGIN:DAYLIGHT
TZOFFSETFROM:-0800
TZOFFSETTO:-0700
TZNAME:PDT
DTSTART:20250309T100000
END:DAYLIGHT
BEGIN:STANDARD
TZOFFSETFROM:-0700
TZOFFSETTO:-0800
TZNAME:PST
DTSTART:20251102T090000
END:STANDARD
BEGIN:DAYLIGHT
TZOFFSETFROM:-0800
TZOFFSETTO:-0700
TZNAME:PDT
DTSTART:20260308T100000
END:DAYLIGHT
BEGIN:STANDARD
TZOFFSETFROM:-0700
TZOFFSETTO:-0800
TZNAME:PST
DTSTART:20261101T090000
END:STANDARD
END:VTIMEZONE
BEGIN:VEVENT
DTSTART;TZID=America/Los_Angeles:20251019T120000
DTEND;TZID=America/Los_Angeles:20251019T150000
DTSTAMP:20260419T082354
CREATED:20251002T210621Z
LAST-MODIFIED:20251002T210621Z
UID:1515-1760875200-1760886000@lacostanerarestaurant.com
SUMMARY:Live Music by Danilo & Olga's Duo
DESCRIPTION:
URL:https://lacostanerarestaurant.com/event/live-music-by-danilo-olgas-duo-5
LOCATION:La Costanera\, 260 Capistrano Rd\, Half Moon Bay\, CA\, 94019\, United States
CATEGORIES:Live Music
ATTACH;FMTTYPE=image/png:https://lacostanerarestaurant.com/wp-content/uploads/2025/07/Danilo-Olgas-Duo_1-1.png
END:VEVENT
BEGIN:VEVENT
DTSTART;TZID=America/Los_Angeles:20251018T120000
DTEND;TZID=America/Los_Angeles:20251018T150000
DTSTAMP:20260419T082354
CREATED:20251002T210714Z
LAST-MODIFIED:20251002T210714Z
UID:1517-1760788800-1760799600@lacostanerarestaurant.com
SUMMARY:Live Music by Eduardo Alvarez
DESCRIPTION:
URL:https://lacostanerarestaurant.com/event/live-music-by-eduardo-alvarez-8
LOCATION:La Costanera\, 260 Capistrano Rd\, Half Moon Bay\, CA\, 94019\, United States
CATEGORIES:Live Music
ATTACH;FMTTYPE=image/png:https://lacostanerarestaurant.com/wp-content/uploads/2025/07/Eduardo-Alvarez.png
END:VEVENT
BEGIN:VEVENT
DTSTART;TZID=America/Los_Angeles:20251012T120000
DTEND;TZID=America/Los_Angeles:20251012T150000
DTSTAMP:20260419T082354
CREATED:20251002T210516Z
LAST-MODIFIED:20251002T210516Z
UID:1513-1760270400-1760281200@lacostanerarestaurant.com
SUMMARY:Live Music by Pablo Malpica
DESCRIPTION:
URL:https://lacostanerarestaurant.com/event/live-music-by-pablo-malpica-4
LOCATION:La Costanera\, 260 Capistrano Rd\, Half Moon Bay\, CA\, 94019\, United States
CATEGORIES:Live Music
ATTACH;FMTTYPE=image/png:https://lacostanerarestaurant.com/wp-content/uploads/2025/07/Pablo-Malpica.png
END:VEVENT
BEGIN:VEVENT
DTSTART;TZID=America/Los_Angeles:20251011T120000
DTEND;TZID=America/Los_Angeles:20251011T150000
DTSTAMP:20260419T082354
CREATED:20251002T210431Z
LAST-MODIFIED:20251002T210431Z
UID:1511-1760184000-1760194800@lacostanerarestaurant.com
SUMMARY:Live Music by Sang Matiz
DESCRIPTION:
URL:https://lacostanerarestaurant.com/event/live-music-by-sang-matiz-4
LOCATION:La Costanera\, 260 Capistrano Rd\, Half Moon Bay\, CA\, 94019\, United States
CATEGORIES:Live Music
ATTACH;FMTTYPE=image/png:https://lacostanerarestaurant.com/wp-content/uploads/2025/07/Sang-Matiz.png
END:VEVENT
BEGIN:VEVENT
DTSTART;TZID=America/Los_Angeles:20251010T180000
DTEND;TZID=America/Los_Angeles:20251010T210000
DTSTAMP:20260419T082354
CREATED:20251002T210339Z
LAST-MODIFIED:20251002T210339Z
UID:1509-1760119200-1760130000@lacostanerarestaurant.com
SUMMARY:Live Music by Sonya Jason’s Latini Duo
DESCRIPTION:
URL:https://lacostanerarestaurant.com/event/live-music-by-sonya-jasons-latini-duo-4
LOCATION:La Costanera\, 260 Capistrano Rd\, Half Moon Bay\, CA\, 94019\, United States
CATEGORIES:Live Music
ATTACH;FMTTYPE=image/png:https://lacostanerarestaurant.com/wp-content/uploads/2025/07/Sonya-Jasons-Latini-Duo.png
END:VEVENT
BEGIN:VEVENT
DTSTART;TZID=America/Los_Angeles:20251005T120000
DTEND;TZID=America/Los_Angeles:20251005T150000
DTSTAMP:20260419T082354
CREATED:20251002T210140Z
LAST-MODIFIED:20251002T210140Z
UID:1507-1759665600-1759676400@lacostanerarestaurant.com
SUMMARY:Live Music by Atepu Krep
DESCRIPTION:
URL:https://lacostanerarestaurant.com/event/live-music-by-atepu-krep-2
LOCATION:La Costanera\, 260 Capistrano Rd\, Half Moon Bay\, CA\, 94019\, United States
CATEGORIES:Live Music
ATTACH;FMTTYPE=image/png:https://lacostanerarestaurant.com/wp-content/uploads/2025/07/LC-Website_Live-Music_Atepu-Krep.png
END:VEVENT
BEGIN:VEVENT
DTSTART;TZID=America/Los_Angeles:20251004T120000
DTEND;TZID=America/Los_Angeles:20251004T150000
DTSTAMP:20260419T082354
CREATED:20251002T210050Z
LAST-MODIFIED:20251002T210050Z
UID:1505-1759579200-1759590000@lacostanerarestaurant.com
SUMMARY:Live Music by Eduardo Alvarez
DESCRIPTION:
URL:https://lacostanerarestaurant.com/event/live-music-by-eduardo-alvarez-7
LOCATION:La Costanera\, 260 Capistrano Rd\, Half Moon Bay\, CA\, 94019\, United States
CATEGORIES:Live Music
ATTACH;FMTTYPE=image/png:https://lacostanerarestaurant.com/wp-content/uploads/2025/07/Eduardo-Alvarez.png
END:VEVENT
BEGIN:VEVENT
DTSTART;TZID=America/Los_Angeles:20251003T180000
DTEND;TZID=America/Los_Angeles:20251003T210000
DTSTAMP:20260419T082354
CREATED:20251002T205956Z
LAST-MODIFIED:20251002T205956Z
UID:1503-1759514400-1759525200@lacostanerarestaurant.com
SUMMARY:Live Music by Eduardo Alvarez
DESCRIPTION:
URL:https://lacostanerarestaurant.com/event/live-music-by-eduardo-alvarez-6
LOCATION:La Costanera\, 260 Capistrano Rd\, Half Moon Bay\, CA\, 94019\, United States
CATEGORIES:Live Music
ATTACH;FMTTYPE=image/png:https://lacostanerarestaurant.com/wp-content/uploads/2025/07/Eduardo-Alvarez.png
END:VEVENT
BEGIN:VEVENT
DTSTART;TZID=America/Los_Angeles:20251002T180000
DTEND;TZID=America/Los_Angeles:20251002T210000
DTSTAMP:20260419T082354
CREATED:20251002T211100Z
LAST-MODIFIED:20251002T211100Z
UID:1525-1759428000-1759438800@lacostanerarestaurant.com
SUMMARY:Live Music by Danilo & Olga's Latini Duo
DESCRIPTION:
URL:https://lacostanerarestaurant.com/event/live-music-by-danilo-olgas-latini-duo
LOCATION:La Costanera\, 260 Capistrano Rd\, Half Moon Bay\, CA\, 94019\, United States
CATEGORIES:Live Music
ATTACH;FMTTYPE=image/png:https://lacostanerarestaurant.com/wp-content/uploads/2025/07/Danilo-Olgas-Duo_1-1.png
END:VEVENT
BEGIN:VEVENT
DTSTART;TZID=America/Los_Angeles:20250928T120000
DTEND;TZID=America/Los_Angeles:20250928T150000
DTSTAMP:20260419T082354
CREATED:20250911T220327Z
LAST-MODIFIED:20250911T220327Z
UID:1501-1759060800-1759071600@lacostanerarestaurant.com
SUMMARY:Live Music by Rolando Morales
DESCRIPTION:
URL:https://lacostanerarestaurant.com/event/live-music-by-rolando-morales-4
LOCATION:La Costanera\, 260 Capistrano Rd\, Half Moon Bay\, CA\, 94019\, United States
CATEGORIES:Live Music
ATTACH;FMTTYPE=image/png:https://lacostanerarestaurant.com/wp-content/uploads/2025/07/LC_Website_Live-Music_Rolando-Morales.png
END:VEVENT
BEGIN:VEVENT
DTSTART;TZID=America/Los_Angeles:20250927T120000
DTEND;TZID=America/Los_Angeles:20250927T150000
DTSTAMP:20260419T082354
CREATED:20250911T220054Z
LAST-MODIFIED:20250911T220054Z
UID:1499-1758974400-1758985200@lacostanerarestaurant.com
SUMMARY:Live Music by Eduardo Alvarez
DESCRIPTION:
URL:https://lacostanerarestaurant.com/event/live-music-by-eduardo-alvarez-5
LOCATION:La Costanera\, 260 Capistrano Rd\, Half Moon Bay\, CA\, 94019\, United States
CATEGORIES:Live Music
ATTACH;FMTTYPE=image/png:https://lacostanerarestaurant.com/wp-content/uploads/2025/07/Eduardo-Alvarez.png
END:VEVENT
BEGIN:VEVENT
DTSTART;TZID=America/Los_Angeles:20250926T180000
DTEND;TZID=America/Los_Angeles:20250926T210000
DTSTAMP:20260419T082354
CREATED:20250911T220006Z
LAST-MODIFIED:20250911T220006Z
UID:1497-1758909600-1758920400@lacostanerarestaurant.com
SUMMARY:Live Music by Sonya Jason’s Latini Duo
DESCRIPTION:
URL:https://lacostanerarestaurant.com/event/live-music-by-sonya-jasons-latini-duo-3
LOCATION:La Costanera\, 260 Capistrano Rd\, Half Moon Bay\, CA\, 94019\, United States
CATEGORIES:Live Music
ATTACH;FMTTYPE=image/png:https://lacostanerarestaurant.com/wp-content/uploads/2025/07/Sonya-Jasons-Latini-Duo.png
END:VEVENT
BEGIN:VEVENT
DTSTART;TZID=America/Los_Angeles:20250921T120000
DTEND;TZID=America/Los_Angeles:20250921T150000
DTSTAMP:20260419T082354
CREATED:20250911T215924Z
LAST-MODIFIED:20250911T215924Z
UID:1495-1758456000-1758466800@lacostanerarestaurant.com
SUMMARY:Live Music by Danilo & Olga’s Duo
DESCRIPTION:
URL:https://lacostanerarestaurant.com/event/live-music-by-danilo-olgas-duo-4
LOCATION:La Costanera\, 260 Capistrano Rd\, Half Moon Bay\, CA\, 94019\, United States
CATEGORIES:Live Music
ATTACH;FMTTYPE=image/png:https://lacostanerarestaurant.com/wp-content/uploads/2025/07/Danilo-Olgas-Duo_1-1.png
END:VEVENT
BEGIN:VEVENT
DTSTART;TZID=America/Los_Angeles:20250920T120000
DTEND;TZID=America/Los_Angeles:20250920T150000
DTSTAMP:20260419T082354
CREATED:20250911T215844Z
LAST-MODIFIED:20250911T215844Z
UID:1493-1758369600-1758380400@lacostanerarestaurant.com
SUMMARY:Live Music by Rolando Morales
DESCRIPTION:
URL:https://lacostanerarestaurant.com/event/live-music-by-rolando-morales-3
LOCATION:La Costanera\, 260 Capistrano Rd\, Half Moon Bay\, CA\, 94019\, United States
CATEGORIES:Live Music
ATTACH;FMTTYPE=image/png:https://lacostanerarestaurant.com/wp-content/uploads/2025/07/LC_Website_Live-Music_Rolando-Morales.png
END:VEVENT
BEGIN:VEVENT
DTSTART;TZID=America/Los_Angeles:20250919T060000
DTEND;TZID=America/Los_Angeles:20250919T210000
DTSTAMP:20260419T082354
CREATED:20250911T215755Z
LAST-MODIFIED:20250911T215755Z
UID:1491-1758261600-1758315600@lacostanerarestaurant.com
SUMMARY:Live Music by Eduardo Alvarez
DESCRIPTION:
URL:https://lacostanerarestaurant.com/event/live-music-by-eduardo-alvarez-4
LOCATION:La Costanera\, 260 Capistrano Rd\, Half Moon Bay\, CA\, 94019\, United States
CATEGORIES:Live Music
ATTACH;FMTTYPE=image/png:https://lacostanerarestaurant.com/wp-content/uploads/2025/07/Eduardo-Alvarez.png
END:VEVENT
BEGIN:VEVENT
DTSTART;TZID=America/Los_Angeles:20250914T120000
DTEND;TZID=America/Los_Angeles:20250914T150000
DTSTAMP:20260419T082354
CREATED:20250911T215700Z
LAST-MODIFIED:20250911T215700Z
UID:1489-1757851200-1757862000@lacostanerarestaurant.com
SUMMARY:Live Music by Pablo Malpica
DESCRIPTION:
URL:https://lacostanerarestaurant.com/event/live-music-by-pablo-malpica-3
LOCATION:La Costanera\, 260 Capistrano Rd\, Half Moon Bay\, CA\, 94019\, United States
CATEGORIES:Live Music
ATTACH;FMTTYPE=image/png:https://lacostanerarestaurant.com/wp-content/uploads/2025/07/Pablo-Malpica.png
END:VEVENT
BEGIN:VEVENT
DTSTART;TZID=America/Los_Angeles:20250913T000000
DTEND;TZID=America/Los_Angeles:20250913T150000
DTSTAMP:20260419T082354
CREATED:20250911T215618Z
LAST-MODIFIED:20250911T220440Z
UID:1487-1757721600-1757775600@lacostanerarestaurant.com
SUMMARY:Live Music by Rolando Morales
DESCRIPTION:
URL:https://lacostanerarestaurant.com/event/live-music-by-rolando-morales-2
LOCATION:La Costanera\, 260 Capistrano Rd\, Half Moon Bay\, CA\, 94019\, United States
CATEGORIES:Live Music
ATTACH;FMTTYPE=image/png:https://lacostanerarestaurant.com/wp-content/uploads/2025/07/LC_Website_Live-Music_Rolando-Morales.png
END:VEVENT
BEGIN:VEVENT
DTSTART;TZID=America/Los_Angeles:20250912T180000
DTEND;TZID=America/Los_Angeles:20250912T210000
DTSTAMP:20260419T082354
CREATED:20250911T215541Z
LAST-MODIFIED:20250911T215541Z
UID:1484-1757700000-1757710800@lacostanerarestaurant.com
SUMMARY:Live Music by Sonya Jason’s Latini Duo
DESCRIPTION:
URL:https://lacostanerarestaurant.com/event/live-music-by-sonya-jasons-latini-duo-2
LOCATION:La Costanera\, 260 Capistrano Rd\, Half Moon Bay\, CA\, 94019\, United States
CATEGORIES:Live Music
ATTACH;FMTTYPE=image/png:https://lacostanerarestaurant.com/wp-content/uploads/2025/09/LC-Website_Live-Music_Sonya-Jasons-Latini-Duo.png
END:VEVENT
BEGIN:VEVENT
DTSTART;TZID=America/Los_Angeles:20250907T120000
DTEND;TZID=America/Los_Angeles:20250907T150000
DTSTAMP:20260419T082354
CREATED:20250911T215123Z
LAST-MODIFIED:20250911T215446Z
UID:1482-1757246400-1757257200@lacostanerarestaurant.com
SUMMARY:Live Music by Pablo Malpica
DESCRIPTION:
URL:https://lacostanerarestaurant.com/event/live-music-by-pablo-malpica-2
LOCATION:La Costanera\, 260 Capistrano Rd\, Half Moon Bay\, CA\, 94019\, United States
CATEGORIES:Live Music
ATTACH;FMTTYPE=image/png:https://lacostanerarestaurant.com/wp-content/uploads/2025/07/Pablo-Malpica.png
END:VEVENT
BEGIN:VEVENT
DTSTART;TZID=America/Los_Angeles:20250906T120000
DTEND;TZID=America/Los_Angeles:20250906T150000
DTSTAMP:20260419T082354
CREATED:20250911T215011Z
LAST-MODIFIED:20250911T220545Z
UID:1480-1757160000-1757170800@lacostanerarestaurant.com
SUMMARY:Live Music by Eduardo Alvarez
DESCRIPTION:
URL:https://lacostanerarestaurant.com/event/live-music-by-eduardo-alvarez-3
LOCATION:La Costanera\, 260 Capistrano Rd\, Half Moon Bay\, CA\, 94019\, United States
CATEGORIES:Live Music
ATTACH;FMTTYPE=image/png:https://lacostanerarestaurant.com/wp-content/uploads/2025/07/Eduardo-Alvarez.png
END:VEVENT
BEGIN:VEVENT
DTSTART;TZID=America/Los_Angeles:20250727T120000
DTEND;TZID=America/Los_Angeles:20250727T160000
DTSTAMP:20260419T082354
CREATED:20250702T011457Z
LAST-MODIFIED:20250702T020930Z
UID:1372-1753617600-1753632000@lacostanerarestaurant.com
SUMMARY:Live Music by Atepu Krep
DESCRIPTION:
URL:https://lacostanerarestaurant.com/event/live-music-by-atepu-krep
LOCATION:La Costanera\, 260 Capistrano Rd\, Half Moon Bay\, CA\, 94019\, United States
CATEGORIES:Live Music
ATTACH;FMTTYPE=image/png:https://lacostanerarestaurant.com/wp-content/uploads/2025/07/LC-Website_Live-Music_Atepu-Krep.png
END:VEVENT
BEGIN:VEVENT
DTSTART;TZID=America/Los_Angeles:20250726T120000
DTEND;TZID=America/Los_Angeles:20250726T150000
DTSTAMP:20260419T082354
CREATED:20250702T010601Z
LAST-MODIFIED:20250702T010749Z
UID:1370-1753531200-1753542000@lacostanerarestaurant.com
SUMMARY:Live Music by Eduardo Alvarez
DESCRIPTION:
URL:https://lacostanerarestaurant.com/event/live-music-by-eduardo-alvarez-2
LOCATION:La Costanera\, 260 Capistrano Rd\, Half Moon Bay\, CA\, 94019\, United States
CATEGORIES:Live Music
ATTACH;FMTTYPE=image/png:https://lacostanerarestaurant.com/wp-content/uploads/2025/07/Eduardo-Alvarez.png
END:VEVENT
BEGIN:VEVENT
DTSTART;TZID=America/Los_Angeles:20250725T180000
DTEND;TZID=America/Los_Angeles:20250725T210000
DTSTAMP:20260419T082354
CREATED:20250702T010520Z
LAST-MODIFIED:20250702T010520Z
UID:1368-1753466400-1753477200@lacostanerarestaurant.com
SUMMARY:Live Music by Danilo & Olga's Duo
DESCRIPTION:
URL:https://lacostanerarestaurant.com/event/live-music-by-danilo-olgas-duo-3
LOCATION:CA
CATEGORIES:Live Music
ATTACH;FMTTYPE=image/png:https://lacostanerarestaurant.com/wp-content/uploads/2025/07/Danilo-Olgas-Duo_1-1.png
END:VEVENT
BEGIN:VEVENT
DTSTART;TZID=America/Los_Angeles:20250720T120000
DTEND;TZID=America/Los_Angeles:20250720T150000
DTSTAMP:20260419T082354
CREATED:20250702T005622Z
LAST-MODIFIED:20250702T005622Z
UID:1361-1753012800-1753023600@lacostanerarestaurant.com
SUMMARY:Live Music by Rolando Morales
DESCRIPTION:
URL:https://lacostanerarestaurant.com/event/live-music-by-rolando-morales
LOCATION:La Costanera\, 260 Capistrano Rd\, Half Moon Bay\, CA\, 94019\, United States
CATEGORIES:Live Music
ATTACH;FMTTYPE=image/png:https://lacostanerarestaurant.com/wp-content/uploads/2025/07/LC_Website_Live-Music_Rolando-Morales.png
END:VEVENT
BEGIN:VEVENT
DTSTART;TZID=America/Los_Angeles:20250719T120000
DTEND;TZID=America/Los_Angeles:20250719T150000
DTSTAMP:20260419T082354
CREATED:20250702T010246Z
LAST-MODIFIED:20250702T010246Z
UID:1366-1752926400-1752937200@lacostanerarestaurant.com
SUMMARY:Live Music by Sang Matiz
DESCRIPTION:
URL:https://lacostanerarestaurant.com/event/live-music-by-sang-matiz-3
LOCATION:La Costanera\, 260 Capistrano Rd\, Half Moon Bay\, CA\, 94019\, United States
CATEGORIES:Live Music
ATTACH;FMTTYPE=image/png:https://lacostanerarestaurant.com/wp-content/uploads/2025/07/Sang-Matiz.png
END:VEVENT
BEGIN:VEVENT
DTSTART;TZID=America/Los_Angeles:20250718T180000
DTEND;TZID=America/Los_Angeles:20250718T210000
DTSTAMP:20260419T082354
CREATED:20250702T005840Z
LAST-MODIFIED:20250702T010141Z
UID:1364-1752861600-1752872400@lacostanerarestaurant.com
SUMMARY:Live Music by Sang Matiz
DESCRIPTION:
URL:https://lacostanerarestaurant.com/event/live-music-by-sang-matiz-2
LOCATION:La Costanera\, 260 Capistrano Rd\, Half Moon Bay\, CA\, 94019\, United States
CATEGORIES:Live Music
ATTACH;FMTTYPE=image/png:https://lacostanerarestaurant.com/wp-content/uploads/2025/07/Sang-Matiz.png
END:VEVENT
BEGIN:VEVENT
DTSTART;TZID=America/Los_Angeles:20250713T120000
DTEND;TZID=America/Los_Angeles:20250713T150000
DTSTAMP:20260419T082354
CREATED:20250702T005057Z
LAST-MODIFIED:20250702T005328Z
UID:1358-1752408000-1752418800@lacostanerarestaurant.com
SUMMARY:Live Music by Pablo Malpica
DESCRIPTION:
URL:https://lacostanerarestaurant.com/event/live-music-by-pablo-malpica
LOCATION:La Costanera\, 260 Capistrano Rd\, Half Moon Bay\, CA\, 94019\, United States
CATEGORIES:Live Music
ATTACH;FMTTYPE=image/png:https://lacostanerarestaurant.com/wp-content/uploads/2025/07/Pablo-Malpica.png
END:VEVENT
BEGIN:VEVENT
DTSTART;TZID=America/Los_Angeles:20250712T120000
DTEND;TZID=America/Los_Angeles:20250712T150000
DTSTAMP:20260419T082354
CREATED:20250702T004759Z
LAST-MODIFIED:20250702T004759Z
UID:1355-1752321600-1752332400@lacostanerarestaurant.com
SUMMARY:Live Music by Eduardo Alvarez
DESCRIPTION:
URL:https://lacostanerarestaurant.com/event/live-music-by-eduardo-alvarez
LOCATION:La Costanera\, 260 Capistrano Rd\, Half Moon Bay\, CA\, 94019\, United States
CATEGORIES:Live Music
ATTACH;FMTTYPE=image/png:https://lacostanerarestaurant.com/wp-content/uploads/2025/07/Eduardo-Alvarez.png
END:VEVENT
BEGIN:VEVENT
DTSTART;TZID=America/Los_Angeles:20250711T180000
DTEND;TZID=America/Los_Angeles:20250711T210000
DTSTAMP:20260419T082354
CREATED:20250702T003943Z
LAST-MODIFIED:20250702T003943Z
UID:1352-1752256800-1752267600@lacostanerarestaurant.com
SUMMARY:Live Music by Sonya Jason's Latini Duo
DESCRIPTION:
URL:https://lacostanerarestaurant.com/event/live-music-by-sonya-jasons-latini-duo
LOCATION:CA
CATEGORIES:Live Music
ATTACH;FMTTYPE=image/png:https://lacostanerarestaurant.com/wp-content/uploads/2025/07/Sonya-Jasons-Latini-Duo.png
END:VEVENT
BEGIN:VEVENT
DTSTART;TZID=America/Los_Angeles:20250706T120000
DTEND;TZID=America/Los_Angeles:20250706T150000
DTSTAMP:20260419T082354
CREATED:20250702T003617Z
LAST-MODIFIED:20250702T003617Z
UID:1350-1751803200-1751814000@lacostanerarestaurant.com
SUMMARY:Live Music by Danilo & Olga's Duo
DESCRIPTION:
URL:https://lacostanerarestaurant.com/event/live-music-by-danilo-olgas-duo-2
LOCATION:CA
CATEGORIES:Live Music
ATTACH;FMTTYPE=image/png:https://lacostanerarestaurant.com/wp-content/uploads/2025/07/Danilo-Olgas-Duo_1.png
END:VEVENT
END:VCALENDAR