BEGIN:VCALENDAR
VERSION:2.0
PRODID:-//La Costanera - ECPv6.15.17.1//NONSGML v1.0//EN
CALSCALE:GREGORIAN
METHOD:PUBLISH
X-WR-CALNAME:La Costanera
X-ORIGINAL-URL:https://lacostanerarestaurant.com
X-WR-CALDESC:Events for La Costanera
REFRESH-INTERVAL;VALUE=DURATION:PT1H
X-Robots-Tag:noindex
X-PUBLISHED-TTL:PT1H
BEGIN:VTIMEZONE
TZID:America/Los_Angeles
BEGIN:DAYLIGHT
TZOFFSETFROM:-0800
TZOFFSETTO:-0700
TZNAME:PDT
DTSTART:20240310T100000
END:DAYLIGHT
BEGIN:STANDARD
TZOFFSETFROM:-0700
TZOFFSETTO:-0800
TZNAME:PST
DTSTART:20241103T090000
END:STANDARD
BEGIN:DAYLIGHT
TZOFFSETFROM:-0800
TZOFFSETTO:-0700
TZNAME:PDT
DTSTART:20250309T100000
END:DAYLIGHT
BEGIN:STANDARD
TZOFFSETFROM:-0700
TZOFFSETTO:-0800
TZNAME:PST
DTSTART:20251102T090000
END:STANDARD
BEGIN:DAYLIGHT
TZOFFSETFROM:-0800
TZOFFSETTO:-0700
TZNAME:PDT
DTSTART:20260308T100000
END:DAYLIGHT
BEGIN:STANDARD
TZOFFSETFROM:-0700
TZOFFSETTO:-0800
TZNAME:PST
DTSTART:20261101T090000
END:STANDARD
BEGIN:DAYLIGHT
TZOFFSETFROM:-0800
TZOFFSETTO:-0700
TZNAME:PDT
DTSTART:20270314T100000
END:DAYLIGHT
BEGIN:STANDARD
TZOFFSETFROM:-0700
TZOFFSETTO:-0800
TZNAME:PST
DTSTART:20271107T090000
END:STANDARD
END:VTIMEZONE
BEGIN:VEVENT
DTSTART;TZID=America/Los_Angeles:20260222T120000
DTEND;TZID=America/Los_Angeles:20260222T150000
DTSTAMP:20260421T012256
CREATED:20260209T044741Z
LAST-MODIFIED:20260209T044741Z
UID:1851-1771761600-1771772400@lacostanerarestaurant.com
SUMMARY:Live Music by Danilo & Olga’s Duo
DESCRIPTION:
URL:https://lacostanerarestaurant.com/event/live-music-by-danilo-olgas-duo-12
LOCATION:La Costanera\, 260 Capistrano Rd\, Half Moon Bay\, CA\, 94019\, United States
CATEGORIES:Live Music
ATTACH;FMTTYPE=image/png:https://lacostanerarestaurant.com/wp-content/uploads/2025/07/Danilo-Olgas-Duo_1.png
END:VEVENT
BEGIN:VEVENT
DTSTART;TZID=America/Los_Angeles:20260221T120000
DTEND;TZID=America/Los_Angeles:20260221T150000
DTSTAMP:20260421T012256
CREATED:20260209T043418Z
LAST-MODIFIED:20260209T043418Z
UID:1838-1771675200-1771686000@lacostanerarestaurant.com
SUMMARY:Live Music by Rolando Morales
DESCRIPTION:
URL:https://lacostanerarestaurant.com/event/live-music-by-rolando-morales-13
LOCATION:La Costanera\, 260 Capistrano Rd\, Half Moon Bay\, CA\, 94019\, United States
CATEGORIES:Live Music
ATTACH;FMTTYPE=image/png:https://lacostanerarestaurant.com/wp-content/uploads/2025/07/LC_Website_Live-Music_Rolando-Morales.png
END:VEVENT
BEGIN:VEVENT
DTSTART;TZID=America/Los_Angeles:20260220T180000
DTEND;TZID=America/Los_Angeles:20260220T210000
DTSTAMP:20260421T012256
CREATED:20260209T043230Z
LAST-MODIFIED:20260209T043230Z
UID:1836-1771610400-1771621200@lacostanerarestaurant.com
SUMMARY:Live Music by Danilo & Olga’s Duo
DESCRIPTION:
URL:https://lacostanerarestaurant.com/event/live-music-by-danilo-olgas-duo-11
LOCATION:La Costanera\, 260 Capistrano Rd\, Half Moon Bay\, CA\, 94019\, United States
CATEGORIES:Live Music
ATTACH;FMTTYPE=image/png:https://lacostanerarestaurant.com/wp-content/uploads/2025/07/Danilo-Olgas-Duo_1.png
END:VEVENT
BEGIN:VEVENT
DTSTART;TZID=America/Los_Angeles:20260215T120000
DTEND;TZID=America/Los_Angeles:20260215T150000
DTSTAMP:20260421T012256
CREATED:20260209T042845Z
LAST-MODIFIED:20260209T042845Z
UID:1832-1771156800-1771167600@lacostanerarestaurant.com
SUMMARY:Live Music by Pablo Malpica
DESCRIPTION:
URL:https://lacostanerarestaurant.com/event/live-music-by-pablo-malpica-12
CATEGORIES:Live Music
ATTACH;FMTTYPE=image/png:https://lacostanerarestaurant.com/wp-content/uploads/2025/07/Pablo-Malpica.png
END:VEVENT
BEGIN:VEVENT
DTSTART;TZID=America/Los_Angeles:20260214T180000
DTEND;TZID=America/Los_Angeles:20260214T210000
DTSTAMP:20260421T012256
CREATED:20260209T042717Z
LAST-MODIFIED:20260209T042717Z
UID:1830-1771092000-1771102800@lacostanerarestaurant.com
SUMMARY:Live Music by Sonya Jason’s Latini Duo
DESCRIPTION:
URL:https://lacostanerarestaurant.com/event/live-music-by-sonya-jasons-latini-duo-13
LOCATION:La Costanera\, 260 Capistrano Rd\, Half Moon Bay\, CA\, 94019\, United States
CATEGORIES:Live Music
ATTACH;FMTTYPE=image/png:https://lacostanerarestaurant.com/wp-content/uploads/2025/07/Sonya-Jasons-Latini-Duo.png
END:VEVENT
BEGIN:VEVENT
DTSTART;TZID=America/Los_Angeles:20260214T120000
DTEND;TZID=America/Los_Angeles:20260214T150000
DTSTAMP:20260421T012256
CREATED:20260209T042530Z
LAST-MODIFIED:20260209T042530Z
UID:1828-1771070400-1771081200@lacostanerarestaurant.com
SUMMARY:Live Music by Eduardo Alvarez
DESCRIPTION:
URL:https://lacostanerarestaurant.com/event/live-music-by-eduardo-alvarez-17
LOCATION:La Costanera\, 260 Capistrano Rd\, Half Moon Bay\, CA\, 94019\, United States
CATEGORIES:Live Music
ATTACH;FMTTYPE=image/png:https://lacostanerarestaurant.com/wp-content/uploads/2025/07/Eduardo-Alvarez.png
END:VEVENT
BEGIN:VEVENT
DTSTART;TZID=America/Los_Angeles:20260213T180000
DTEND;TZID=America/Los_Angeles:20260213T210000
DTSTAMP:20260421T012256
CREATED:20260209T042053Z
LAST-MODIFIED:20260209T042053Z
UID:1823-1771005600-1771016400@lacostanerarestaurant.com
SUMMARY:Live Music by Sonya Jason’s Latini Duo
DESCRIPTION:
URL:https://lacostanerarestaurant.com/event/live-music-by-sonya-jasons-latini-duo-12
LOCATION:La Costanera\, 260 Capistrano Rd\, Half Moon Bay\, CA\, 94019\, United States
CATEGORIES:Live Music
ATTACH;FMTTYPE=image/png:https://lacostanerarestaurant.com/wp-content/uploads/2025/07/Sonya-Jasons-Latini-Duo.png
END:VEVENT
BEGIN:VEVENT
DTSTART;TZID=America/Los_Angeles:20260208T120000
DTEND;TZID=America/Los_Angeles:20260208T150000
DTSTAMP:20260421T012256
CREATED:20260209T041928Z
LAST-MODIFIED:20260209T041928Z
UID:1821-1770552000-1770562800@lacostanerarestaurant.com
SUMMARY:Live Music by Pablo Malpica
DESCRIPTION:
URL:https://lacostanerarestaurant.com/event/live-music-by-pablo-malpica-11
LOCATION:La Costanera\, 260 Capistrano Rd\, Half Moon Bay\, CA\, 94019\, United States
CATEGORIES:Live Music
ATTACH;FMTTYPE=image/png:https://lacostanerarestaurant.com/wp-content/uploads/2025/07/Pablo-Malpica.png
END:VEVENT
BEGIN:VEVENT
DTSTART;TZID=America/Los_Angeles:20260207T120000
DTEND;TZID=America/Los_Angeles:20260207T150000
DTSTAMP:20260421T012256
CREATED:20260209T041437Z
LAST-MODIFIED:20260209T041437Z
UID:1813-1770465600-1770476400@lacostanerarestaurant.com
SUMMARY:Live Music by Eduardo Alvarez
DESCRIPTION:
URL:https://lacostanerarestaurant.com/event/live-music-by-eduardo-alvarez-16
LOCATION:La Costanera\, 260 Capistrano Rd\, Half Moon Bay\, CA\, 94019\, United States
CATEGORIES:Live Music
ATTACH;FMTTYPE=image/png:https://lacostanerarestaurant.com/wp-content/uploads/2025/07/Eduardo-Alvarez.png
END:VEVENT
BEGIN:VEVENT
DTSTART;TZID=America/Los_Angeles:20260206T180000
DTEND;TZID=America/Los_Angeles:20260206T210000
DTSTAMP:20260421T012256
CREATED:20260209T041326Z
LAST-MODIFIED:20260209T041326Z
UID:1811-1770400800-1770411600@lacostanerarestaurant.com
SUMMARY:Live Music by Rolando Morales
DESCRIPTION:
URL:https://lacostanerarestaurant.com/event/live-music-by-rolando-morales-12
LOCATION:La Costanera\, 260 Capistrano Rd\, Half Moon Bay\, CA\, 94019\, United States
CATEGORIES:Live Music
ATTACH;FMTTYPE=image/png:https://lacostanerarestaurant.com/wp-content/uploads/2025/07/LC_Website_Live-Music_Rolando-Morales.png
END:VEVENT
BEGIN:VEVENT
DTSTART;TZID=America/Los_Angeles:20260201T120000
DTEND;TZID=America/Los_Angeles:20260201T150000
DTSTAMP:20260421T012256
CREATED:20260209T041201Z
LAST-MODIFIED:20260209T041201Z
UID:1809-1769947200-1769958000@lacostanerarestaurant.com
SUMMARY:Live Music by Pablo Malpica
DESCRIPTION:
URL:https://lacostanerarestaurant.com/event/live-music-by-pablo-malpica-10
LOCATION:La Costanera\, 260 Capistrano Rd\, Half Moon Bay\, CA\, 94019\, United States
CATEGORIES:Live Music
ATTACH;FMTTYPE=image/png:https://lacostanerarestaurant.com/wp-content/uploads/2025/07/Pablo-Malpica.png
END:VEVENT
BEGIN:VEVENT
DTSTART;TZID=America/Los_Angeles:20260131T120000
DTEND;TZID=America/Los_Angeles:20260131T150000
DTSTAMP:20260421T012256
CREATED:20260108T024248Z
LAST-MODIFIED:20260108T024248Z
UID:1762-1769860800-1769871600@lacostanerarestaurant.com
SUMMARY:Live Music by Rolando Morales
DESCRIPTION:
URL:https://lacostanerarestaurant.com/event/live-music-by-rolando-morales-11
LOCATION:La Costanera\, 260 Capistrano Rd\, Half Moon Bay\, CA\, 94019\, United States
CATEGORIES:Live Music
ATTACH;FMTTYPE=image/png:https://lacostanerarestaurant.com/wp-content/uploads/2025/07/LC_Website_Live-Music_Rolando-Morales.png
END:VEVENT
BEGIN:VEVENT
DTSTART;TZID=America/Los_Angeles:20260130T180000
DTEND;TZID=America/Los_Angeles:20260130T210000
DTSTAMP:20260421T012256
CREATED:20260108T024133Z
LAST-MODIFIED:20260108T024133Z
UID:1760-1769796000-1769806800@lacostanerarestaurant.com
SUMMARY:Live Music by Sonya Jason’s Latini Duo
DESCRIPTION:
URL:https://lacostanerarestaurant.com/event/live-music-by-sonya-jasons-latini-duo-11
LOCATION:La Costanera\, 260 Capistrano Rd\, Half Moon Bay\, CA\, 94019\, United States
CATEGORIES:Live Music
ATTACH;FMTTYPE=image/png:https://lacostanerarestaurant.com/wp-content/uploads/2025/07/Sonya-Jasons-Latini-Duo.png
END:VEVENT
BEGIN:VEVENT
DTSTART;TZID=America/Los_Angeles:20260124T120000
DTEND;TZID=America/Los_Angeles:20260124T150000
DTSTAMP:20260421T012256
CREATED:20260108T023940Z
LAST-MODIFIED:20260108T023940Z
UID:1756-1769256000-1769266800@lacostanerarestaurant.com
SUMMARY:Live Music by Eduardo Alvarez
DESCRIPTION:
URL:https://lacostanerarestaurant.com/event/live-music-by-eduardo-alvarez-15
LOCATION:La Costanera\, 260 Capistrano Rd\, Half Moon Bay\, CA\, 94019\, United States
CATEGORIES:Live Music
ATTACH;FMTTYPE=image/png:https://lacostanerarestaurant.com/wp-content/uploads/2025/07/Eduardo-Alvarez.png
END:VEVENT
BEGIN:VEVENT
DTSTART;TZID=America/Los_Angeles:20260123T120000
DTEND;TZID=America/Los_Angeles:20260123T150000
DTSTAMP:20260421T012256
CREATED:20260108T024034Z
LAST-MODIFIED:20260108T024034Z
UID:1758-1769169600-1769180400@lacostanerarestaurant.com
SUMMARY:Live Music by Rolando Morales
DESCRIPTION:
URL:https://lacostanerarestaurant.com/event/live-music-by-rolando-morales-10
LOCATION:La Costanera\, 260 Capistrano Rd\, Half Moon Bay\, CA\, 94019\, United States
CATEGORIES:Live Music
ATTACH;FMTTYPE=image/png:https://lacostanerarestaurant.com/wp-content/uploads/2025/07/LC_Website_Live-Music_Rolando-Morales.png
END:VEVENT
BEGIN:VEVENT
DTSTART;TZID=America/Los_Angeles:20260117T080000
DTEND;TZID=America/Los_Angeles:20260117T170000
DTSTAMP:20260421T012256
CREATED:20260108T023355Z
LAST-MODIFIED:20260108T023355Z
UID:1749-1768636800-1768669200@lacostanerarestaurant.com
SUMMARY:Live Music by Danilo & Olga’s Duo
DESCRIPTION:
URL:https://lacostanerarestaurant.com/event/live-music-by-danilo-olgas-duo-10
LOCATION:La Costanera\, 260 Capistrano Rd\, Half Moon Bay\, CA\, 94019\, United States
CATEGORIES:Live Music
ATTACH;FMTTYPE=image/png:https://lacostanerarestaurant.com/wp-content/uploads/2025/07/Danilo-Olgas-Duo_1.png
END:VEVENT
BEGIN:VEVENT
DTSTART;TZID=America/Los_Angeles:20260116T180000
DTEND;TZID=America/Los_Angeles:20260116T210000
DTSTAMP:20260421T012256
CREATED:20260108T023155Z
LAST-MODIFIED:20260108T023155Z
UID:1747-1768586400-1768597200@lacostanerarestaurant.com
SUMMARY:Live Music by Sonya Jason’s Latini Duo
DESCRIPTION:
URL:https://lacostanerarestaurant.com/event/live-music-by-sonya-jasons-latini-duo-10
LOCATION:La Costanera\, 260 Capistrano Rd\, Half Moon Bay\, CA\, 94019\, United States
CATEGORIES:Live Music
ATTACH;FMTTYPE=image/png:https://lacostanerarestaurant.com/wp-content/uploads/2025/07/Sonya-Jasons-Latini-Duo.png
END:VEVENT
BEGIN:VEVENT
DTSTART;TZID=America/Los_Angeles:20260111T120000
DTEND;TZID=America/Los_Angeles:20260111T150000
DTSTAMP:20260421T012256
CREATED:20260108T022921Z
LAST-MODIFIED:20260108T022957Z
UID:1745-1768132800-1768143600@lacostanerarestaurant.com
SUMMARY:Live Music by Pablo Malpica
DESCRIPTION:
URL:https://lacostanerarestaurant.com/event/live-music-by-pablo-malpica-9
LOCATION:La Costanera\, 260 Capistrano Rd\, Half Moon Bay\, CA\, 94019\, United States
CATEGORIES:Live Music
ATTACH;FMTTYPE=image/png:https://lacostanerarestaurant.com/wp-content/uploads/2025/07/Pablo-Malpica.png
END:VEVENT
BEGIN:VEVENT
DTSTART;TZID=America/Los_Angeles:20260110T120000
DTEND;TZID=America/Los_Angeles:20260110T150000
DTSTAMP:20260421T012256
CREATED:20260108T022832Z
LAST-MODIFIED:20260108T022832Z
UID:1743-1768046400-1768057200@lacostanerarestaurant.com
SUMMARY:Live Music by Eduardo Alvarez
DESCRIPTION:
URL:https://lacostanerarestaurant.com/event/live-music-by-eduardo-alvarez-14
LOCATION:La Costanera\, 260 Capistrano Rd\, Half Moon Bay\, CA\, 94019\, United States
CATEGORIES:Live Music
ATTACH;FMTTYPE=image/png:https://lacostanerarestaurant.com/wp-content/uploads/2025/07/Eduardo-Alvarez.png
END:VEVENT
BEGIN:VEVENT
DTSTART;TZID=America/Los_Angeles:20260109T180000
DTEND;TZID=America/Los_Angeles:20260109T210000
DTSTAMP:20260421T012256
CREATED:20260108T022735Z
LAST-MODIFIED:20260108T022735Z
UID:1741-1767981600-1767992400@lacostanerarestaurant.com
SUMMARY:Live Music by Rolando Morales
DESCRIPTION:
URL:https://lacostanerarestaurant.com/event/live-music-by-rolando-morales-9
LOCATION:La Costanera\, 260 Capistrano Rd\, Half Moon Bay\, CA\, 94019\, United States
CATEGORIES:Live Music
END:VEVENT
BEGIN:VEVENT
DTSTART;TZID=America/Los_Angeles:20260104T120000
DTEND;TZID=America/Los_Angeles:20260104T150000
DTSTAMP:20260421T012256
CREATED:20260108T022638Z
LAST-MODIFIED:20260108T022638Z
UID:1739-1767528000-1767538800@lacostanerarestaurant.com
SUMMARY:Live Music by Atepu Krep
DESCRIPTION:
URL:https://lacostanerarestaurant.com/event/live-music-by-atepu-krep-6
LOCATION:La Costanera\, 260 Capistrano Rd\, Half Moon Bay\, CA\, 94019\, United States
CATEGORIES:Live Music
ATTACH;FMTTYPE=image/png:https://lacostanerarestaurant.com/wp-content/uploads/2025/07/LC-Website_Live-Music_Atepu-Krep.png
END:VEVENT
BEGIN:VEVENT
DTSTART;TZID=America/Los_Angeles:20260103T120000
DTEND;TZID=America/Los_Angeles:20260103T150000
DTSTAMP:20260421T012256
CREATED:20260108T022525Z
LAST-MODIFIED:20260108T022525Z
UID:1737-1767441600-1767452400@lacostanerarestaurant.com
SUMMARY:Live Music by Danilo & Olga’s Duo
DESCRIPTION:
URL:https://lacostanerarestaurant.com/event/live-music-by-danilo-olgas-duo-9
CATEGORIES:Live Music
ATTACH;FMTTYPE=image/png:https://lacostanerarestaurant.com/wp-content/uploads/2025/07/Danilo-Olgas-Duo_1.png
END:VEVENT
BEGIN:VEVENT
DTSTART;TZID=America/Los_Angeles:20260102T180000
DTEND;TZID=America/Los_Angeles:20260102T210000
DTSTAMP:20260421T012256
CREATED:20260108T022359Z
LAST-MODIFIED:20260108T022359Z
UID:1735-1767376800-1767387600@lacostanerarestaurant.com
SUMMARY:Live Music by Sonya Jason’s Latini Duo
DESCRIPTION:
URL:https://lacostanerarestaurant.com/event/live-music-by-sonya-jasons-latini-duo-9
LOCATION:La Costanera\, 260 Capistrano Rd\, Half Moon Bay\, CA\, 94019\, United States
CATEGORIES:Live Music
ATTACH;FMTTYPE=image/png:https://lacostanerarestaurant.com/wp-content/uploads/2025/07/Sonya-Jasons-Latini-Duo.png
END:VEVENT
BEGIN:VEVENT
DTSTART;TZID=America/Los_Angeles:20251228T120000
DTEND;TZID=America/Los_Angeles:20251228T150000
DTSTAMP:20260421T012256
CREATED:20251206T013730Z
LAST-MODIFIED:20251206T013730Z
UID:1703-1766923200-1766934000@lacostanerarestaurant.com
SUMMARY:Live Music by Atepu Krep
DESCRIPTION:
URL:https://lacostanerarestaurant.com/event/live-music-by-atepu-krep-5
LOCATION:La Costanera\, 260 Capistrano Rd\, Half Moon Bay\, CA\, 94019\, United States
CATEGORIES:Live Music
ATTACH;FMTTYPE=image/png:https://lacostanerarestaurant.com/wp-content/uploads/2025/07/LC-Website_Live-Music_Atepu-Krep.png
END:VEVENT
BEGIN:VEVENT
DTSTART;TZID=America/Los_Angeles:20251227T120000
DTEND;TZID=America/Los_Angeles:20251227T150000
DTSTAMP:20260421T012256
CREATED:20251206T013553Z
LAST-MODIFIED:20251206T013553Z
UID:1699-1766836800-1766847600@lacostanerarestaurant.com
SUMMARY:Live Music by Atepu Krep
DESCRIPTION:
URL:https://lacostanerarestaurant.com/event/live-music-by-atepu-krep-4
LOCATION:La Costanera\, 260 Capistrano Rd\, Half Moon Bay\, CA\, 94019\, United States
CATEGORIES:Live Music
ATTACH;FMTTYPE=image/png:https://lacostanerarestaurant.com/wp-content/uploads/2025/07/LC-Website_Live-Music_Atepu-Krep.png
END:VEVENT
BEGIN:VEVENT
DTSTART;TZID=America/Los_Angeles:20251221T120000
DTEND;TZID=America/Los_Angeles:20251221T150000
DTSTAMP:20260421T012256
CREATED:20251206T013219Z
LAST-MODIFIED:20251206T013219Z
UID:1691-1766318400-1766329200@lacostanerarestaurant.com
SUMMARY:Live Music by Danilo & Olga’s Duo
DESCRIPTION:
URL:https://lacostanerarestaurant.com/event/live-music-by-danilo-olgas-duo-8
LOCATION:La Costanera\, 260 Capistrano Rd\, Half Moon Bay\, CA\, 94019\, United States
CATEGORIES:Live Music
END:VEVENT
BEGIN:VEVENT
DTSTART;TZID=America/Los_Angeles:20251220T120000
DTEND;TZID=America/Los_Angeles:20251220T150000
DTSTAMP:20260421T012256
CREATED:20251206T010759Z
LAST-MODIFIED:20251206T012706Z
UID:1666-1766232000-1766242800@lacostanerarestaurant.com
SUMMARY:Live Music by Eduardo Alvarez
DESCRIPTION:
URL:https://lacostanerarestaurant.com/event/live-music-by-eduardo-alvarez-12
LOCATION:La Costanera\, 260 Capistrano Rd\, Half Moon Bay\, CA\, 94019\, United States
CATEGORIES:Live Music
ATTACH;FMTTYPE=image/png:https://lacostanerarestaurant.com/wp-content/uploads/2025/07/Eduardo-Alvarez.png
END:VEVENT
BEGIN:VEVENT
DTSTART;TZID=America/Los_Angeles:20251219T180000
DTEND;TZID=America/Los_Angeles:20251219T210000
DTSTAMP:20260421T012256
CREATED:20251206T012838Z
LAST-MODIFIED:20251206T012838Z
UID:1685-1766167200-1766178000@lacostanerarestaurant.com
SUMMARY:Live Music by Sonya Jason’s Latini Duo
DESCRIPTION:
URL:https://lacostanerarestaurant.com/event/live-music-by-sonya-jasons-latini-duo-8
LOCATION:La Costanera\, 260 Capistrano Rd\, Half Moon Bay\, CA\, 94019\, United States
CATEGORIES:Live Music
ATTACH;FMTTYPE=image/png:https://lacostanerarestaurant.com/wp-content/uploads/2025/07/Sonya-Jasons-Latini-Duo.png
END:VEVENT
BEGIN:VEVENT
DTSTART;TZID=America/Los_Angeles:20251214T120000
DTEND;TZID=America/Los_Angeles:20251214T150000
DTSTAMP:20260421T012256
CREATED:20251206T012035Z
LAST-MODIFIED:20251206T012056Z
UID:1678-1765713600-1765724400@lacostanerarestaurant.com
SUMMARY:Live Music by Rolando Morales
DESCRIPTION:
URL:https://lacostanerarestaurant.com/event/live-music-by-rolando-morales-8
LOCATION:La Costanera\, 260 Capistrano Rd\, Half Moon Bay\, CA\, 94019\, United States
CATEGORIES:Live Music
ATTACH;FMTTYPE=image/png:https://lacostanerarestaurant.com/wp-content/uploads/2025/07/LC_Website_Live-Music_Rolando-Morales.png
END:VEVENT
BEGIN:VEVENT
DTSTART;TZID=America/Los_Angeles:20251213T120000
DTEND;TZID=America/Los_Angeles:20251213T150000
DTSTAMP:20260421T012256
CREATED:20251206T011951Z
LAST-MODIFIED:20251206T011951Z
UID:1676-1765627200-1765638000@lacostanerarestaurant.com
SUMMARY:Live Music by Eduardo Alvarez
DESCRIPTION:
URL:https://lacostanerarestaurant.com/event/live-music-by-eduardo-alvarez-13
LOCATION:La Costanera\, 260 Capistrano Rd\, Half Moon Bay\, CA\, 94019\, United States
CATEGORIES:Live Music
ATTACH;FMTTYPE=image/png:https://lacostanerarestaurant.com/wp-content/uploads/2025/07/Eduardo-Alvarez.png
END:VEVENT
END:VCALENDAR