BEGIN:VCALENDAR
VERSION:2.0
PRODID:-//La Costanera - ECPv6.15.17.1//NONSGML v1.0//EN
CALSCALE:GREGORIAN
METHOD:PUBLISH
X-ORIGINAL-URL:https://lacostanerarestaurant.com
X-WR-CALDESC:Events for La Costanera
REFRESH-INTERVAL;VALUE=DURATION:PT1H
X-Robots-Tag:noindex
X-PUBLISHED-TTL:PT1H
BEGIN:VTIMEZONE
TZID:America/Los_Angeles
BEGIN:DAYLIGHT
TZOFFSETFROM:-0800
TZOFFSETTO:-0700
TZNAME:PDT
DTSTART:20240310T100000
END:DAYLIGHT
BEGIN:STANDARD
TZOFFSETFROM:-0700
TZOFFSETTO:-0800
TZNAME:PST
DTSTART:20241103T090000
END:STANDARD
BEGIN:DAYLIGHT
TZOFFSETFROM:-0800
TZOFFSETTO:-0700
TZNAME:PDT
DTSTART:20250309T100000
END:DAYLIGHT
BEGIN:STANDARD
TZOFFSETFROM:-0700
TZOFFSETTO:-0800
TZNAME:PST
DTSTART:20251102T090000
END:STANDARD
BEGIN:DAYLIGHT
TZOFFSETFROM:-0800
TZOFFSETTO:-0700
TZNAME:PDT
DTSTART:20260308T100000
END:DAYLIGHT
BEGIN:STANDARD
TZOFFSETFROM:-0700
TZOFFSETTO:-0800
TZNAME:PST
DTSTART:20261101T090000
END:STANDARD
END:VTIMEZONE
BEGIN:VEVENT
DTSTART;TZID=America/Los_Angeles:20251205T180000
DTEND;TZID=America/Los_Angeles:20251205T210000
DTSTAMP:20260425T100810
CREATED:20251206T005722Z
LAST-MODIFIED:20251206T005722Z
UID:1655-1764957600-1764968400@lacostanerarestaurant.com
SUMMARY:Live Music by Sonya Jason’s Latini Duo
DESCRIPTION:
URL:https://lacostanerarestaurant.com/event/live-music-by-sonya-jasons-latini-duo-7
LOCATION:La Costanera\, 260 Capistrano Rd\, Half Moon Bay\, CA\, 94019\, United States
CATEGORIES:Live Music
ATTACH;FMTTYPE=image/png:https://lacostanerarestaurant.com/wp-content/uploads/2025/07/Sonya-Jasons-Latini-Duo.png
END:VEVENT
BEGIN:VEVENT
DTSTART;TZID=America/Los_Angeles:20251206T120000
DTEND;TZID=America/Los_Angeles:20251206T150000
DTSTAMP:20260425T100810
CREATED:20251206T005840Z
LAST-MODIFIED:20251206T005840Z
UID:1657-1765022400-1765033200@lacostanerarestaurant.com
SUMMARY:Live Music by Rolando Morales
DESCRIPTION:
URL:https://lacostanerarestaurant.com/event/live-music-by-rolando-morales-6
LOCATION:La Costanera\, 260 Capistrano Rd\, Half Moon Bay\, CA\, 94019\, United States
CATEGORIES:Live Music
ATTACH;FMTTYPE=image/png:https://lacostanerarestaurant.com/wp-content/uploads/2025/07/LC_Website_Live-Music_Rolando-Morales.png
END:VEVENT
BEGIN:VEVENT
DTSTART;TZID=America/Los_Angeles:20251207T120000
DTEND;TZID=America/Los_Angeles:20251207T150000
DTSTAMP:20260425T100810
CREATED:20251206T005931Z
LAST-MODIFIED:20251206T005931Z
UID:1659-1765108800-1765119600@lacostanerarestaurant.com
SUMMARY:Live Music by Pablo Malpica
DESCRIPTION:
URL:https://lacostanerarestaurant.com/event/live-music-by-pablo-malpica-8
LOCATION:La Costanera\, 260 Capistrano Rd\, Half Moon Bay\, CA\, 94019\, United States
CATEGORIES:Live Music
ATTACH;FMTTYPE=image/png:https://lacostanerarestaurant.com/wp-content/uploads/2025/07/Pablo-Malpica.png
END:VEVENT
BEGIN:VEVENT
DTSTART;TZID=America/Los_Angeles:20251212T180000
DTEND;TZID=America/Los_Angeles:20251212T210000
DTSTAMP:20260425T100810
CREATED:20251206T010503Z
LAST-MODIFIED:20251206T010503Z
UID:1664-1765562400-1765573200@lacostanerarestaurant.com
SUMMARY:Live Music by Rolando Morales
DESCRIPTION:
URL:https://lacostanerarestaurant.com/event/live-music-by-rolando-morales-7
LOCATION:La Costanera\, 260 Capistrano Rd\, Half Moon Bay\, CA\, 94019\, United States
CATEGORIES:Live Music
ATTACH;FMTTYPE=image/png:https://lacostanerarestaurant.com/wp-content/uploads/2025/07/LC_Website_Live-Music_Rolando-Morales.png
END:VEVENT
BEGIN:VEVENT
DTSTART;TZID=America/Los_Angeles:20251213T120000
DTEND;TZID=America/Los_Angeles:20251213T150000
DTSTAMP:20260425T100810
CREATED:20251206T011951Z
LAST-MODIFIED:20251206T011951Z
UID:1676-1765627200-1765638000@lacostanerarestaurant.com
SUMMARY:Live Music by Eduardo Alvarez
DESCRIPTION:
URL:https://lacostanerarestaurant.com/event/live-music-by-eduardo-alvarez-13
LOCATION:La Costanera\, 260 Capistrano Rd\, Half Moon Bay\, CA\, 94019\, United States
CATEGORIES:Live Music
ATTACH;FMTTYPE=image/png:https://lacostanerarestaurant.com/wp-content/uploads/2025/07/Eduardo-Alvarez.png
END:VEVENT
BEGIN:VEVENT
DTSTART;TZID=America/Los_Angeles:20251214T120000
DTEND;TZID=America/Los_Angeles:20251214T150000
DTSTAMP:20260425T100810
CREATED:20251206T012035Z
LAST-MODIFIED:20251206T012056Z
UID:1678-1765713600-1765724400@lacostanerarestaurant.com
SUMMARY:Live Music by Rolando Morales
DESCRIPTION:
URL:https://lacostanerarestaurant.com/event/live-music-by-rolando-morales-8
LOCATION:La Costanera\, 260 Capistrano Rd\, Half Moon Bay\, CA\, 94019\, United States
CATEGORIES:Live Music
ATTACH;FMTTYPE=image/png:https://lacostanerarestaurant.com/wp-content/uploads/2025/07/LC_Website_Live-Music_Rolando-Morales.png
END:VEVENT
BEGIN:VEVENT
DTSTART;TZID=America/Los_Angeles:20251219T180000
DTEND;TZID=America/Los_Angeles:20251219T210000
DTSTAMP:20260425T100810
CREATED:20251206T012838Z
LAST-MODIFIED:20251206T012838Z
UID:1685-1766167200-1766178000@lacostanerarestaurant.com
SUMMARY:Live Music by Sonya Jason’s Latini Duo
DESCRIPTION:
URL:https://lacostanerarestaurant.com/event/live-music-by-sonya-jasons-latini-duo-8
LOCATION:La Costanera\, 260 Capistrano Rd\, Half Moon Bay\, CA\, 94019\, United States
CATEGORIES:Live Music
ATTACH;FMTTYPE=image/png:https://lacostanerarestaurant.com/wp-content/uploads/2025/07/Sonya-Jasons-Latini-Duo.png
END:VEVENT
BEGIN:VEVENT
DTSTART;TZID=America/Los_Angeles:20251220T120000
DTEND;TZID=America/Los_Angeles:20251220T150000
DTSTAMP:20260425T100810
CREATED:20251206T010759Z
LAST-MODIFIED:20251206T012706Z
UID:1666-1766232000-1766242800@lacostanerarestaurant.com
SUMMARY:Live Music by Eduardo Alvarez
DESCRIPTION:
URL:https://lacostanerarestaurant.com/event/live-music-by-eduardo-alvarez-12
LOCATION:La Costanera\, 260 Capistrano Rd\, Half Moon Bay\, CA\, 94019\, United States
CATEGORIES:Live Music
ATTACH;FMTTYPE=image/png:https://lacostanerarestaurant.com/wp-content/uploads/2025/07/Eduardo-Alvarez.png
END:VEVENT
BEGIN:VEVENT
DTSTART;TZID=America/Los_Angeles:20251221T120000
DTEND;TZID=America/Los_Angeles:20251221T150000
DTSTAMP:20260425T100810
CREATED:20251206T013219Z
LAST-MODIFIED:20251206T013219Z
UID:1691-1766318400-1766329200@lacostanerarestaurant.com
SUMMARY:Live Music by Danilo & Olga’s Duo
DESCRIPTION:
URL:https://lacostanerarestaurant.com/event/live-music-by-danilo-olgas-duo-8
LOCATION:La Costanera\, 260 Capistrano Rd\, Half Moon Bay\, CA\, 94019\, United States
CATEGORIES:Live Music
END:VEVENT
BEGIN:VEVENT
DTSTART;TZID=America/Los_Angeles:20251227T120000
DTEND;TZID=America/Los_Angeles:20251227T150000
DTSTAMP:20260425T100810
CREATED:20251206T013553Z
LAST-MODIFIED:20251206T013553Z
UID:1699-1766836800-1766847600@lacostanerarestaurant.com
SUMMARY:Live Music by Atepu Krep
DESCRIPTION:
URL:https://lacostanerarestaurant.com/event/live-music-by-atepu-krep-4
LOCATION:La Costanera\, 260 Capistrano Rd\, Half Moon Bay\, CA\, 94019\, United States
CATEGORIES:Live Music
ATTACH;FMTTYPE=image/png:https://lacostanerarestaurant.com/wp-content/uploads/2025/07/LC-Website_Live-Music_Atepu-Krep.png
END:VEVENT
BEGIN:VEVENT
DTSTART;TZID=America/Los_Angeles:20251228T120000
DTEND;TZID=America/Los_Angeles:20251228T150000
DTSTAMP:20260425T100810
CREATED:20251206T013730Z
LAST-MODIFIED:20251206T013730Z
UID:1703-1766923200-1766934000@lacostanerarestaurant.com
SUMMARY:Live Music by Atepu Krep
DESCRIPTION:
URL:https://lacostanerarestaurant.com/event/live-music-by-atepu-krep-5
LOCATION:La Costanera\, 260 Capistrano Rd\, Half Moon Bay\, CA\, 94019\, United States
CATEGORIES:Live Music
ATTACH;FMTTYPE=image/png:https://lacostanerarestaurant.com/wp-content/uploads/2025/07/LC-Website_Live-Music_Atepu-Krep.png
END:VEVENT
END:VCALENDAR